BEGIN:VCALENDAR
VERSION:2.0
PRODID:-//wp-events-plugin.com//7.2.3.1//EN
TZID:Europe/Warsaw
X-WR-TIMEZONE:Europe/Warsaw
BEGIN:VEVENT
UID:14545@night4u.pl
DTSTART;TZID=Europe/Warsaw:20190503T190000
DTEND;TZID=Europe/Warsaw:20190504T020000
DTSTAMP:20190430T144624Z
URL:https://night4u.pl/wydarzenia/latino-dance-party-7/
SUMMARY:Latino Dance Party
DESCRIPTION:Latino Dance Party - 03.05.2019\nMiejsce: Nowy Andergrant\nwst
 ęp na  imprezę 10 zł\, \nWjazd na imprezę i warsztaty 15 PLN\n \nWarsz
 taty Salsy 18:20 - 20:00 Nowy Andergrant\nLatino Dance Party 21.00-2.00 No
 wy Andergrant\, \n\nZpraszamy na warsztaty  salsy open przed imprezką  no
 rmalnie od 18:20 do 20:00   a Latino Dance Party od 21:00 w AnderGrancie\,
  serdecznie zapraszamy.\n\nPrzypominamy jednocześnie o co poniedziałkowy
 ch wieczornych spotkaniach z salsą w Andergrancie
ATTACH;FMTTYPE=image/jpeg:https://night4u.pl/wp-content/uploads/2019/04/36
 176_image_58647182_2857485040935900_5260077865096970240_o.jpg
CATEGORIES:warmińsko-mazurskie
LOCATION:\, \, 
X-APPLE-STRUCTURED-LOCATION;VALUE=URI;X-ADDRESS=\, ;X-APPLE-RADIUS=100;X-TI
 TLE=:geo:0,0
END:VEVENT
BEGIN:VTIMEZONE
TZID:Europe/Warsaw
X-LIC-LOCATION:Europe/Warsaw
BEGIN:DAYLIGHT
DTSTART:20190331T030000
TZOFFSETFROM:+0100
TZOFFSETTO:+0200
TZNAME:CEST
END:DAYLIGHT
END:VTIMEZONE
END:VCALENDAR