BEGIN:VCALENDAR
VERSION:2.0
PRODID:-//wp-events-plugin.com//7.2.3.1//EN
TZID:Europe/Warsaw
X-WR-TIMEZONE:Europe/Warsaw
BEGIN:VEVENT
UID:25892@night4u.pl
DTSTART;TZID=Europe/Warsaw:20190908T220000
DTEND;TZID=Europe/Warsaw:20190909T050000
DTSTAMP:20190830T163418Z
URL:https://night4u.pl/wydarzenia/latino-express-x-afterparty-la-azotea-cu
 bana-x-dj-tiger-back/
SUMMARY:Latino Express x AfterParty La Azotea Cubana x Dj TIGER (BACK!)
DESCRIPTION:Niedziela! After po La Azotea Cubana\nLatino Express w Teatro C
 ubano! NEW Good Party! \nkoncert x Animacje x Pokazy.\n\nw każdą niedzie
 lę niespodzianka dla Ciebie.\n\nW tą niedziele zagra dla Państwa "Espec
 ial'nie" Dj TIGER (Welcome Back Amigo!)\n\nGodz 22:00\n\nzapraszamy\n\nWid
 ziemy się na Jagiellońskiej 10! \n\nThe Best Music \nThe Best Fun\nTEATR
 O CUBANO - The best place!
ATTACH;FMTTYPE=image/jpeg:https://night4u.pl/wp-content/uploads/2019/08/60
 619_image_69471060_1439398919544866_2181117966391705600_o.jpg
CATEGORIES:małopolskie
LOCATION:Teatro Cubano Krakow - Resto & Rum Bar\, Jagiellońska 10\, Krakó
 w\, 31-010\, Poland
GEO:50.062064;19.934683
X-APPLE-STRUCTURED-LOCATION;VALUE=URI;X-ADDRESS=Jagiellońska 10\, Kraków\
 , 31-010\, Poland;X-APPLE-RADIUS=100;X-TITLE=Teatro Cubano Krakow - Resto 
 & Rum Bar:geo:50.062064,19.934683
END:VEVENT
BEGIN:VTIMEZONE
TZID:Europe/Warsaw
X-LIC-LOCATION:Europe/Warsaw
BEGIN:DAYLIGHT
DTSTART:20190331T030000
TZOFFSETFROM:+0100
TZOFFSETTO:+0200
TZNAME:CEST
END:DAYLIGHT
END:VTIMEZONE
END:VCALENDAR