BEGIN:VCALENDAR
VERSION:2.0
PRODID:-//wp-events-plugin.com//7.2.3.1//EN
TZID:Europe/Warsaw
X-WR-TIMEZONE:Europe/Warsaw
BEGIN:VEVENT
UID:22984@night4u.pl
DTSTART;TZID=Europe/Warsaw:20190803T210000
DTEND;TZID=Europe/Warsaw:20190804T040000
DTSTAMP:20190724T170405Z
URL:https://night4u.pl/wydarzenia/latino-night-with-mc-frankie-sobota-03-0
 8-rin-music-club/
SUMMARY:Latino Night with MC Frankie // Sobota 03.08 // RIN music club
DESCRIPTION:POLISH VERSION BELOW // www.where2b.org/RinMusicClub\n\nMC FRAN
 KIE again in Krakow! In a very special place: RIN Music Club! With the hot
 test Latino\, Reggaeton & Tropical Beats! And with all the things you all 
 love so much about him: Interaction with the mic and guests on the dance-f
 loor\, Smooth transition between songs\, and always ready to play the song
 s that YOU ask for and ALL NIGHT LONG!\nMC FRANKIE has only ONE thing on h
 is mind - and all his fans across London\, Berlin and Poland know about it
 : Spoil you with YOUR favourite Latin & Reggaeton songs all night long! So
 \, click on "GOING" or "INTERESTED" now and let MC FRANKIE spoil you with 
 the hottest Latino\, Reggaeton & Tropical Beats in the hottest club in Kra
 kow: RIN Music Club (located on the main square\, ul. Szewska 14\, Krakow)
 .\n\nPromotions all night:\n- Mojito: 14 PLN\,\n- Żywiec 1l: 10 PLN\,\n- 
 Jim Beam + Pepsi: 12 PLN\n\nPhotos from party you’ll find on facebook: f
 acebook.com/rinclubkrakow\n\nReservation: kontakt@rinclub.pl or 608 399 53
 8\nRIN music club reserves the right to select guests.\nRIN your place\, m
 usic& party…\n\n--------------------------------------------------------
 -------\n\nMC FRANKIE ponownie w Krakowie! W wyjątkowym miejscu: RIN Musi
 c Club! \nPrzywita Was najgorętszymi latynoskimi\, reggaetonami i tropika
 lnymi beatami! \nMoże się też pochwalić świetną: interakcją z mikro
 fonem oraz gośćmi na parkiecie. Cechują go też płynne przejście mię
 dzy utworami i jest chętny do odtwarzania piosenek\, o które prosicie! \
 nALL NIGHT LONG!\nMC FRANKIE myśli tylko o jednym i wszyscy jego fani o t
 ym wiedzą\, także w Londynie\, Berlinie oraz Polsce! Rozpieści Was ulub
 ionymi utworami Latin & Reggaeton całą noc! \nKlikajcie śmiało „Wezm
 ę udział” w wydarzeniu i pozwólcie MC FRANKIE doprowadzić parkiet do
  czerwoności! To wszystko i wiele więcej tylko w RIN music club – Szew
 ska 14!\n\nPromocje do 23:00:\n- Żywiec 1l: 10 zł\,\n- Mojito: 14 zł\,\
 n- Jim Beam + Pepsi: 12 zł.\n\nFotorelacje z imprezy znajdziecie na naszy
 m fanpage-u: facebook.com/rinclubkrakow\nRezerwacja: kontakt@rinclub.pl lu
 b +48 608 399 538\nRIN music club zastrzega sobie prawo do selekcji gości
 .\n\nRIN your place\, music& party...
ATTACH;FMTTYPE=image/jpeg:https://night4u.pl/wp-content/uploads/2019/07/54
 313_image_67231277_2574891485863290_1363894013333078016_n.jpg
CATEGORIES:małopolskie
LOCATION:RIN music club\, ul. Szewska 14\, Kraków\, 31-009\, Poland
GEO:50.062663;19.934545
X-APPLE-STRUCTURED-LOCATION;VALUE=URI;X-ADDRESS=ul. Szewska 14\, Kraków\, 
 31-009\, Poland;X-APPLE-RADIUS=100;X-TITLE=RIN music club:geo:50.062663,19
 .934545
END:VEVENT
BEGIN:VTIMEZONE
TZID:Europe/Warsaw
X-LIC-LOCATION:Europe/Warsaw
BEGIN:DAYLIGHT
DTSTART:20190331T030000
TZOFFSETFROM:+0100
TZOFFSETTO:+0200
TZNAME:CEST
END:DAYLIGHT
END:VTIMEZONE
END:VCALENDAR