BEGIN:VCALENDAR
VERSION:2.0
PRODID:-//wp-events-plugin.com//7.2.3.1//EN
TZID:Europe/Warsaw
X-WR-TIMEZONE:Europe/Warsaw
BEGIN:VEVENT
UID:26180@night4u.pl
DTSTART;TZID=Europe/Warsaw:20190831T210000
DTEND;TZID=Europe/Warsaw:20190901T040000
DTSTAMP:20190903T190430Z
URL:https://night4u.pl/wydarzenia/latino-party-adios-wakacje-x-club-nafta/
SUMMARY:Latino Party! Adios wakacje x Club Nafta
DESCRIPTION:Adios wakacje! Kończymy wakacje w rytmach latynoskich\, sącz
 ąc Mojito Latino. \n\n??????\nMUSIC\nLatino & House & Summer Hits gra DJ 
 BOBY\n\n??????\nPROMO BAR\nMojito Latino  12 PLN\n\n??????\nDRESS CODE\nEl
 egancki letni dress code. Mężczyźni mogą wchodzić do klubu w eleganck
 ich krótkich spodenkach :D \n\n??????\nWJAZD\ndo 22:00 dziewczyny -> 10 z
 ł\nnormalnie: 16 zł\nWiek: +21\n\n??????\nREZERWACJE LOŻY:\nTEL: 785 93
 0 565
ATTACH;FMTTYPE=image/jpeg:https://night4u.pl/wp-content/uploads/2019/09/61
 201_image_68562573_1547946628675577_6017595334585221120_o.jpg
CATEGORIES:podkarpackie
LOCATION:Club Nafta\, ul. Lwowska 21\, Krosno\, 38-440\, Poland
GEO:49.683733;21.772154
X-APPLE-STRUCTURED-LOCATION;VALUE=URI;X-ADDRESS=ul. Lwowska 21\, Krosno\, 3
 8-440\, Poland;X-APPLE-RADIUS=100;X-TITLE=Club Nafta:geo:49.683733,21.7721
 54
END:VEVENT
BEGIN:VTIMEZONE
TZID:Europe/Warsaw
X-LIC-LOCATION:Europe/Warsaw
BEGIN:DAYLIGHT
DTSTART:20190331T030000
TZOFFSETFROM:+0100
TZOFFSETTO:+0200
TZNAME:CEST
END:DAYLIGHT
END:VTIMEZONE
END:VCALENDAR