BEGIN:VCALENDAR
VERSION:2.0
PRODID:-//wp-events-plugin.com//7.2.3.1//EN
TZID:Europe/Warsaw
X-WR-TIMEZONE:Europe/Warsaw
BEGIN:VEVENT
UID:32402@night4u.pl
DTSTART;TZID=Europe/Warsaw:20191021T200000
DTEND;TZID=Europe/Warsaw:20191022T060000
DTSTAMP:20191021T052022Z
URL:https://night4u.pl/wydarzenia/latino-tandem-language-meeting-x-esn-kra
 kow-united-x-b4/
SUMMARY:Latino Tandem Language Meeting x ESN Kraków United x B4
DESCRIPTION:Lately you can enjoy not at all polish weather in Kraków\, you
  could say almost Spanish or Italian ⛱️⛱️\nTo keep you in this moo
 d we would like to invite you to the special edition of the event - Tandem
  Latino 🔥🔥\nEven if you "no hablas español" or "non parli italiano"
  we will provide you with the basic phrases and you will see how easy it i
 s 🤩🤩\nCome and enjoy with us the Latino vibes 💃\n\nHere is just s
 ome main info for you:\n➡️ You can enjoy more space in B4\, we opened 
 the 2nd floor for you 👐 (with big bar where you can also order drinks 
 🍹)\n➡️ There will be 2 coat checks available for you at the club 
 🎩\n➡️ You can use 2 entrances in order to get into B4 🚪\nPlease 
 use both entrances and both coat checks. This way we can avoid staying in 
 line for too long ⏳\n➡️Also you can go to Disco Pub under B4 Club --
 &gt\; same discounts and lot of free space to party or talk !!!\n_________
 ________________________\nDo you like to talk to many interesting and amaz
 ing people from all over the world? Are you interested in getting to know 
 new cultures and gaining experience? Are you looking for something more th
 an another typical party? Do you want to learn foreign languages and impro
 ve your conversation skills at the same time? Would you like to do it EVER
 Y WEEK?\n\nHere comes your chance!\n\nESN Kraków United has a pleasure to
  present to you our TANDEM language meetings!\n\nThe rules are simple: the
 re is a flag hung above the table or a paper with the name of the language
  written. All you have to do is to join the table with the language you’
 re interested in and start talking!\n\nWhen? – every Monday – 8.00 p.m
 .\nWhere? – Klub B4 AND Disco Pub\nHow much? – obviously FOR FREE\n\nM
 oreover\, there are special discounts:\n• Big Beer - 6 zł \n• Tray of
  shots - 18 zł\n • Whisky with Pepsi - 12 zł \n• Prosecco + orange j
 uice - 8zł \n• Vodka + Black - 18zł \n• Cuba Libre 10 zł\n\nDon’t
  miss the opportunity to get to know amazing people from all over the worl
 d\, pick up your language and have the time of your life!\n\n\n**PLEASE DO
  NOT REMOVE ANY FLAGS AT THE EVENT. 100PLN FINE FOR PROPERTY DAMAGE**
ATTACH;FMTTYPE=image/jpeg:https://night4u.pl/wp-content/uploads/2019/10/77
 795_image_72147919_2115343985232720_6763456838357745664_o.jpg
CATEGORIES:małopolskie
LOCATION:B4 Bracka 4\, ul.Bracka 4\, Kraków\, 31-005\, Poland
GEO:50.06042;19.93637
X-APPLE-STRUCTURED-LOCATION;VALUE=URI;X-ADDRESS=ul.Bracka 4\, Kraków\, 31-
 005\, Poland;X-APPLE-RADIUS=100;X-TITLE=B4 Bracka 4:geo:50.06042,19.93637
END:VEVENT
BEGIN:VTIMEZONE
TZID:Europe/Warsaw
X-LIC-LOCATION:Europe/Warsaw
BEGIN:DAYLIGHT
DTSTART:20190331T030000
TZOFFSETFROM:+0100
TZOFFSETTO:+0200
TZNAME:CEST
END:DAYLIGHT
END:VTIMEZONE
END:VCALENDAR