BEGIN:VCALENDAR
VERSION:2.0
PRODID:-//wp-events-plugin.com//7.2.3.1//EN
TZID:Europe/Warsaw
X-WR-TIMEZONE:Europe/Warsaw
BEGIN:VEVENT
UID:7178@night4u.pl
DTSTART;TZID=Europe/Warsaw:20190228T210000
DTEND;TZID=Europe/Warsaw:20190301T020000
DTSTAMP:20190213T180825Z
URL:https://night4u.pl/wydarzenia/latino-thursday/
SUMMARY:Latino Thursday
DESCRIPTION:DJ Tjago mixing the best latin music: salsa\, bachata\, kizomba
 \, reggaeton\, merengue\, tropical and more! ? Free entry!\n\nZapraszamy w
 szystkich kochających dobrą zabawę i taniec! Dj Tjago z Kolumbii\, zase
 rwuje najlepszą mieszankę salsy\, bachaty i kizomby w Polsce ??✨\n\n
 ——————————————————————\n\nWST
 ĘP CAŁKOWICIE DARMOWY!!\n\nhttp://facebook.com/Bunkierclub\nul.Olejarna 
 3\nKontakt:\nbiuro@bunkierclub.pl\n530 917 788\n\nPatronat: \nRadio Eska\n
 Trojmiasto.pl
ATTACH;FMTTYPE=image/jpeg:https://night4u.pl/wp-content/uploads/2019/02/20
 673_image_51454237_2350362908329552_6830159553070366720_o.jpg
CATEGORIES:pomorskie
LOCATION:Bunkier\, Olejarna 3\, Gdansk\, 80-843\, Poland
GEO:54.35446;18.65466
X-APPLE-STRUCTURED-LOCATION;VALUE=URI;X-ADDRESS=Olejarna 3\, Gdansk\, 80-84
 3\, Poland;X-APPLE-RADIUS=100;X-TITLE=Bunkier:geo:54.35446,18.65466
END:VEVENT
BEGIN:VTIMEZONE
TZID:Europe/Warsaw
X-LIC-LOCATION:Europe/Warsaw
BEGIN:STANDARD
DTSTART:20181028T020000
TZOFFSETFROM:+0200
TZOFFSETTO:+0100
TZNAME:CET
END:STANDARD
END:VTIMEZONE
END:VCALENDAR