BEGIN:VCALENDAR
VERSION:2.0
PRODID:-//wp-events-plugin.com//7.2.3.1//EN
TZID:Europe/Warsaw
X-WR-TIMEZONE:Europe/Warsaw
BEGIN:VEVENT
UID:36704@night4u.pl
DTSTART;TZID=Europe/Warsaw:20191122T220000
DTEND;TZID=Europe/Warsaw:20191123T050000
DTSTAMP:20191123T002911Z
URL:https://night4u.pl/wydarzenia/latino-w-wysokich-x-bachata-salsa-x-piat
 ek-22-11/
SUMMARY:Latino w Wysokich x Bachata - Salsa x piątek 22.11
DESCRIPTION:🌞Latino w Wysokich all night...spełniamy Wasze prośby i ot
 o jest impreza w całości poświęc ona muzyce i tańcowi latino🏖🏝
 ⛱\n\n🌞Będą też znane i lubiane bangery😎😎\n\n🌞O trafny dob
 ór utworów zadba 🎧Łukasz Zajko 🎧\n\n🌞Do tego to z czego Tony w
  piątki są znane\n\n⭐️ Panie całą noc wchodzą totalnie za darmo 
 👠👠\n\n⭐️ I nasze piątkowe promo na barze 🥃🥂🍷\n\n🌞St
 art 22:00 🕙\nwstęp / ze względu na komfort i bezpieczeństwo naszych 
 gości zastrzegamy sobie prawo do selekcji\n\n🌞Rezerwacje ☎️602 748
  814☎️
ATTACH;FMTTYPE=image/jpeg:https://night4u.pl/wp-content/uploads/2019/11/10
 1097_image_75649378_2513550922255154_3998794911137660928_o.jpg
CATEGORIES:podlaskie
END:VEVENT
BEGIN:VTIMEZONE
TZID:Europe/Warsaw
X-LIC-LOCATION:Europe/Warsaw
BEGIN:STANDARD
DTSTART:20191027T020000
TZOFFSETFROM:+0200
TZOFFSETTO:+0100
TZNAME:CET
END:STANDARD
END:VTIMEZONE
END:VCALENDAR