BEGIN:VCALENDAR
VERSION:2.0
PRODID:-//wp-events-plugin.com//7.2.3.1//EN
TZID:Europe/Warsaw
X-WR-TIMEZONE:Europe/Warsaw
BEGIN:VEVENT
UID:47376@night4u.pl
DTSTART;TZID=Europe/Warsaw:20200307T200000
DTEND;TZID=Europe/Warsaw:20200308T230000
DTSTAMP:20200331T140601Z
URL:https://night4u.pl/wydarzenia/latino-wandergrant/
SUMMARY:Latino wAndergrant
DESCRIPTION:LATINgO DANCE PARTY 💃🕺\n\n20.00- 21.00warsztaty bachaty o
 pen\n\n21.- 3.30 -imprezka\n\nmuzę latino gra i poprowadzi warsztaty D.D.
 DARIO\n\nwarsztaty opłata 15 zł\, sama impreza 10zł
ATTACH;FMTTYPE=image/jpeg:https://night4u.pl/wp-content/uploads/2020/02/15
 8255_image_84985094_3697015726982823_7114857065218048000_o.jpg
CATEGORIES:warmińsko-mazurskie
LOCATION:Nowy Andergrant\, ul.Kołobrzeska 32\, Olsztyn\, 10-432\, Poland
GEO:53.779583;20.501569
X-APPLE-STRUCTURED-LOCATION;VALUE=URI;X-ADDRESS=ul.Kołobrzeska 32\, Olszty
 n\, 10-432\, Poland;X-APPLE-RADIUS=100;X-TITLE=Nowy Andergrant:geo:53.7795
 83,20.501569
END:VEVENT
BEGIN:VTIMEZONE
TZID:Europe/Warsaw
X-LIC-LOCATION:Europe/Warsaw
BEGIN:STANDARD
DTSTART:20191027T020000
TZOFFSETFROM:+0200
TZOFFSETTO:+0100
TZNAME:CET
END:STANDARD
END:VTIMEZONE
END:VCALENDAR