BEGIN:VCALENDAR
VERSION:2.0
PRODID:-//wp-events-plugin.com//7.2.3.1//EN
TZID:Europe/Warsaw
X-WR-TIMEZONE:Europe/Warsaw
BEGIN:VEVENT
UID:19404@night4u.pl
DTSTART;TZID=Europe/Warsaw:20190621T210000
DTEND;TZID=Europe/Warsaw:20190622T050000
DTSTAMP:20190614T195422Z
URL:https://night4u.pl/wydarzenia/lato-w-miescie-1-piatek-21-06-band30-liv
 e/
SUMMARY:Lato W Mieście #1 // Piątek 21.06 // Band30+ Live!
DESCRIPTION:Długi weekend przy Jasnej 7? Czemu nie! Świętujemy rozpoczę
 cie kalendarzowego lata ♥\n\nZe swojej strony możemy zagwarantować naj
 lepszą muzykę\, najsmaczniejsze drinki i doborowe towarzystwo. Całości
  dopełni występ BAND30+ na żywo!\n\nDo zobaczenia na Jasnej 7!\n\nLINE-
 UP:\nBAND30+ LIVE/NOVACK (OLD&NEW)\nDJ DŹWIĘK (CLUB SOUNDS)\n\n---------
 --------------------------------------------------------------------------
 -\nDla kogo jest Klub30 ? \nSzykujemy dla Was miejsce\, w którym bez prob
 lemu znajdziecie wspólny język z innymi klubowiczami. Nie spotkasz tu sw
 ojej córki\, nie spotkasz tu swoich studentów...\nZa to na pewno spotkas
 z ludzi\, którzy nie wyobrażają sobie siedzieć wieczorem w domu.\n----
 --------------------------------------------------------------------------
 ------\nSTART: 21:00\n\nWSTĘP:\ndo 23:00 - 10PLN\npo 23:00 - 15PLN\n\nRez
 erwacje: 574 649 583 (wtorek - sobota\, 16:00 - 19:00)\n\nW naszym klubie 
 istnieje możliwość przygotowania cateringu! To świetna opcja na wieczo
 ry panieńskie\, kawalerskie czy spotkania biznesowe. Jeżeli jesteś zain
 teresowany/a - powiadom nas o tym przy rezerwacji telefonicznej!\n\nNajlep
 iej po trzydziestce... :) \nObowiązuje door selection
ATTACH;FMTTYPE=image/jpeg:https://night4u.pl/wp-content/uploads/2019/06/46
 772_image_64572893_2108025452823694_674659170867216384_o.jpg
CATEGORIES:lubelskie
LOCATION:Klub30 Lublin\, Lublin\, Poland
GEO:51.249038;22.552872
X-APPLE-STRUCTURED-LOCATION;VALUE=URI;X-ADDRESS=Lublin\, Poland;X-APPLE-RAD
 IUS=100;X-TITLE=Klub30 Lublin:geo:51.249038,22.552872
END:VEVENT
BEGIN:VTIMEZONE
TZID:Europe/Warsaw
X-LIC-LOCATION:Europe/Warsaw
BEGIN:DAYLIGHT
DTSTART:20190331T030000
TZOFFSETFROM:+0100
TZOFFSETTO:+0200
TZNAME:CEST
END:DAYLIGHT
END:VTIMEZONE
END:VCALENDAR