BEGIN:VCALENDAR
VERSION:2.0
PRODID:-//wp-events-plugin.com//7.2.3.1//EN
TZID:Europe/Warsaw
X-WR-TIMEZONE:Europe/Warsaw
BEGIN:VEVENT
UID:6075@night4u.pl
DTSTART;TZID=Europe/Warsaw:20190201T220000
DTEND;TZID=Europe/Warsaw:20190202T060000
DTSTAMP:20190201T053547Z
URL:https://night4u.pl/wydarzenia/latwopalni-djs-team/
SUMMARY:Łatwopalni Djs Team
DESCRIPTION:Co było pierwsze: jajko czy kura? W przypadku tego duo nie ma 
 takich rozterek. Wiadomo\, on jest djem z 20 letnim doświadczeniem\, ona 
 zaczyna z ogromnym zapałem i świeżymi pomysłami. Zupełnie przypadkiem
  okazało się\, że łączy ich pasja do electro-techno i mają zbliżone
  gusta w doborze materiału. Próbne imprezy w gronie znajomych aktywował
 y wulkan energii wiec niewiele myśląc założyli didżejskie combo. Ten 
 tandem jedzie równo i wiezie potencjał. Spodziewajcie się dynamicznych 
 setów na wysokim poziomie merytorycznym\, podanych zgodnie ze sztuką. Po
 lecać! \n\nbędzie grane:\nELECTRO / TECHNO / NEW BEAT / EBM / ACID / WAV
 E / ’80 / DISCO\n\ngramy w BAZAR\n01.02.2019\n22.00 / P29\, ul. Piotrkow
 ska 29 (wejście od ul. Więckowskiego)\nWstęp wolny.
ATTACH;FMTTYPE=image/jpeg:https://night4u.pl/wp-content/uploads/2019/02/18
 181_image_50311000_300294620627353_9221101145911459840_o.jpg
CATEGORIES:łódzkie
LOCATION:P29\, Piotrkowska 29\, Łódź\, 90-410\, Poland
GEO:51.772549;19.455285
X-APPLE-STRUCTURED-LOCATION;VALUE=URI;X-ADDRESS=Piotrkowska 29\, Łódź\, 
 90-410\, Poland;X-APPLE-RADIUS=100;X-TITLE=P29:geo:51.772549,19.455285
END:VEVENT
BEGIN:VTIMEZONE
TZID:Europe/Warsaw
X-LIC-LOCATION:Europe/Warsaw
BEGIN:STANDARD
DTSTART:20181028T020000
TZOFFSETFROM:+0200
TZOFFSETTO:+0100
TZNAME:CET
END:STANDARD
END:VTIMEZONE
END:VCALENDAR