BEGIN:VCALENDAR
VERSION:2.0
PRODID:-//wp-events-plugin.com//7.2.3.1//EN
TZID:Europe/Warsaw
X-WR-TIMEZONE:Europe/Warsaw
BEGIN:VEVENT
UID:11790@night4u.pl
DTSTART;TZID=Europe/Warsaw:20190501T200000
DTEND;TZID=Europe/Warsaw:20190501T235500
DTSTAMP:20190720T003831Z
URL:https://night4u.pl/wydarzenia/lech-janerka-w-rzeszowie/
SUMMARY:Lech Janerka w Rzeszowie!
DESCRIPTION:Lech Janerka - polski muzyk rockowy\, kompozytor\, basista\, au
 tor tekstów. Pochodzi z Wrocławia. Na polskiej scenie rockowej pojawił 
 się pod koniec lat 70.\nW 1979 roku założył zespół Klaus Mitffoch. G
 rupa nagrała słynną płytę "Klaus Mitffoch"\, przez wielu uznawaną za
  jedną z najistotniejszych w historii polskiego rocka. Album zwyciężył
  w ankiecie "Magazynu Muzycznego" na album trzydziestolecia i wśród czyt
 elników "Tylko Rock" na album lat 80. Największym przebojem Klausa Mitff
 ocha był utwór "Jezu jak się cieszę" (1984).\nLech Janerka opuścił z
 espół w 1984 roku i rozpoczął działalność pod własnym nazwiskiem. 
 W 1985 roku wystąpił na festiwalu w Jarocinie\, natomiast w kolejnym rok
 u nagrał solowy album "Historia podwodna". W nagraniach Janerce towarzysz
 yli między innymi Wojciech Konikiewicz\, Janusz Rołt\, Jarosław Woszczy
 na (T.Love)\, Krzysztof Pociecha oraz wokalistka Lombardu\, Małgorzata Os
 trowska.\n\nW roku 1987 Janerka nagrał płytę "Piosenki"\, wydaną ze wz
 ględu na problemy z cenzurą dopiero po dwóch latach. Kolejny album\, za
 tytułowany "Ur"\, ukazał się w 1991 roku i jak sam tytuł wskazuje\, po
 święcony był sumeryjskiemu miastu Ur. W nagraniach Janerce towarzyszył
  zespół Dinghy\, w skład którego weszli żona lidera\, gitarzysta Bart
 osz Straburzyński i klawiszowiec Marek Majewski. Wkrótce do Dinghy doł
 ączył perkusista Dariusz Biłyk (znany później z TSA).\n\nW 1993 roku 
 premierę miała składankowa płyta "Co lepsze kawałki"\, na której zna
 lazły się wybrane utwory z solowych albumów Janerki i Klausa Mitffocha.
  A już rok później na rynku pojawił się studyjny album "Bruhaha". Po 
 trzech latach premierę miała płyta "Dobranoc"\, promowana serią klubow
 ych koncertów.\n\nLech Janerka jest również twórcą muzyki do filmów 
 "Chce mi się wyć" Jacka Skalskiego\, "Obcy musi fruwać" Wiesława Sanie
 wskiego i "Czyż nie dobija się konia?" Macieja Żurawskiego. Jesienią 1
 996 wziął udział w nagraniu albumu "Flota zjednoczonych sił" Voo Voo\,
  z którym to zespołem często wspólnie występował w Jarocinie (1985\,
  1988\, 1991). Na przełomie 1999 i 2000 roku Janerka uczestniczył w zdj
 ęciach do filmu "Głośniej od bomb" Przemysława Wojcieszka\, gdzie wcie
 lił się w rolę księdza.\n\nW roku 2001 wrócił do pomysłów muzyczny
 ch i niebawem ukazała się płyta zatytułowana "Fiu Fiu". Za sprawą Raf
 ała Paradowskiego powstały teledyski do wszystkich piosenek z albumu\, s
 tanowiące spójną całość i będące dość pionierskim rozwiązaniem 
 w krajowej produkcji.\n\nW marcu 2005 roku do sklepów trafił kolejny alb
 um Lecha Janerki. Na płycie zatytułowanej "Plagiaty" znalazły się utwo
 ry\, które muzyk skomponował jeszcze w czasach licealnych. Płytę pilot
 ował utwór "Rower"\, który został nagrodzony Fryderykiem 2005.\n\nOfic
 jalna strona:\n
ATTACH;FMTTYPE=image/jpeg:https://night4u.pl/wp-content/uploads/2019/04/30
 278_image_55963106_2173071299446968_690445675350982656_n.jpg
CATEGORIES:podkarpackie
LOCATION:Klub Vinyl\, Fredry 4\, Rzeszów\, 35-005\, Poland
GEO:50.03998;22.00741
X-APPLE-STRUCTURED-LOCATION;VALUE=URI;X-ADDRESS=Fredry 4\, Rzeszów\, 35-00
 5\, Poland;X-APPLE-RADIUS=100;X-TITLE=Klub Vinyl:geo:50.03998,22.00741
END:VEVENT
BEGIN:VTIMEZONE
TZID:Europe/Warsaw
X-LIC-LOCATION:Europe/Warsaw
BEGIN:DAYLIGHT
DTSTART:20190331T030000
TZOFFSETFROM:+0100
TZOFFSETTO:+0200
TZNAME:CEST
END:DAYLIGHT
END:VTIMEZONE
END:VCALENDAR