BEGIN:VCALENDAR
VERSION:2.0
PRODID:-//wp-events-plugin.com//7.2.3.1//EN
TZID:Europe/Warsaw
X-WR-TIMEZONE:Europe/Warsaw
BEGIN:VEVENT
UID:21862@night4u.pl
DTSTART;TZID=Europe/Warsaw:20190711T210000
DTEND;TZID=Europe/Warsaw:20190712T050000
DTSTAMP:20190709T223741Z
URL:https://night4u.pl/wydarzenia/lecimy-z-defisem-do-argentyny-mega-konce
 rt-w-lebie/
SUMMARY:Lecimy z Defisem do Argentyny! - MEGA Koncert w Łebie!
DESCRIPTION:chciałbym pojechać do Argentyny\ntam podobno czekają dziewcz
 yny\nmiłe ładne i kochane\ndlatego jutro tam pojadę\nchciałbym pojecha
 ć do Argentyny\ntam podobno czekają dziewczyny\nmiłe ładne i kochane\n
 dlatego jutro tam pojadę\n\nW czwartek 11 lipca w naszym klubie wystąpi
 ą gwiazdy muzyki Disco - zespół:\n\n♕♕♕DEFIS♕♕♕\nEnergiczny
  zespół który rozpala cały parkiet do czerwoności!\n\nTwórcy takich 
 hitów jak:\n✴Argentyna - www.youtube.com/watch?v=RRkk6NtsJv8\n✴Niespo
 tykany Kolor - www.youtube.com/watch?v=Ktm9wPev8Cs\n✴ Róże - www.youtu
 be.com/watch?v=sIgiSDtmYRE\n\n✴✴✴✴✴✴✴✴✴✴✴✴✴\n\n?
  Staropolskim obyczajem Para Młoda zaprasza koncert \n\n ⭐ DYSKOTEKA WE
 SELE ŁEBA⭐\n\n??? Na wejściu Młodzi przywitają Was chlebem\, solą i
  kieliszkiem szampana!\n\nPodczas imprezy możecie się spodziewać zabawy
  jak na prawdziwym weselu! Super muzyka Kaczuszki\, Pociągi i inne Węży
 ki sprawią\, że nie będziecie chcieli schodzić z parkietu!\n\n❤️ N
 ie zabraknie tradycyjnych OCZEPIN o godzinie 2.00 ❤️\nBędzie fotobudk
 a\, a na zakąskę do wódeczki znajdziecie coś pysznego na Wiejskim Stol
 iku!\n\n⭐️⭐ Imprezę poprowadzą: DJ & Wodzirej ⭐️⭐\n\n♥♥
 ♥♥♥♥♥♥♥♥♥♥♥♥♥♥♥♥♥♥♥♥♥♥\nGRAMY 
 od 21.00 do ostatniego gościa!\n▬▬▬▬▬▬▬▬▬▬▬▬▬
 ▬▬▬▬▬▬▬▬▬▬▬▬▬▬\n\nTylko u nas Wesela bez koper
 ty i krawatów!\n\nREZERWACJE STOLIKÓW: +48 791 99 88 05\n\nIdealne miejs
 ce na Wieczór Panieński & Kawalerski\, Rocznicę Ślubu\, Urodziny\, a n
 awet Wesele!\n\n▬▬▬▬▬▬▬▬▬▬▬▬▬▬▬▬▬▬▬
 ▬▬▬▬▬▬▬▬\nNa imprezie obowiązuje wygodny nieformalny str
 ój taki jak dla Ciebie jest wygodny - jednak bez elementów sportowych m.
 in dresów\, czapek itp.
ATTACH;FMTTYPE=image/jpeg:https://night4u.pl/wp-content/uploads/2019/07/51
 815_image_65973320_2134246153541438_8197719604458422272_o.jpg
CATEGORIES:pomorskie
LOCATION:Dyskoteka Wesele Łeba\, Wojska Polskiego\, Łeba\, 84-360\, Polan
 d
GEO:54.762309;17.55529
X-APPLE-STRUCTURED-LOCATION;VALUE=URI;X-ADDRESS=Wojska Polskiego\, Łeba\, 
 84-360\, Poland;X-APPLE-RADIUS=100;X-TITLE=Dyskoteka Wesele Łeba:geo:54.7
 62309,17.55529
END:VEVENT
BEGIN:VTIMEZONE
TZID:Europe/Warsaw
X-LIC-LOCATION:Europe/Warsaw
BEGIN:DAYLIGHT
DTSTART:20190331T030000
TZOFFSETFROM:+0100
TZOFFSETTO:+0200
TZNAME:CEST
END:DAYLIGHT
END:VTIMEZONE
END:VCALENDAR