BEGIN:VCALENDAR
VERSION:2.0
PRODID:-//wp-events-plugin.com//7.2.3.1//EN
TZID:Europe/Warsaw
X-WR-TIMEZONE:Europe/Warsaw
BEGIN:VEVENT
UID:48861@night4u.pl
DTSTART;TZID=Europe/Warsaw:20200305T220000
DTEND;TZID=Europe/Warsaw:20200306T030000
DTSTAMP:20200331T141436Z
URL:https://night4u.pl/wydarzenia/lejdis-najt/
SUMMARY:Lejdis Najt!
DESCRIPTION:Drogie Panie! Dear Ladies! \n\nZbliża się Wasz dzień - Dzie
 ń Kobiet i dla oddania hołdu Waszemu pięknu oraz inteligencji Samorząd
  Studentów Politechniki Gdańskiej przygotował imprezę Lejdis Najt! \n\
 nKolorowe drinki\, dwa parkiety\, świetna muzyka\, czy może być lepiej?
 \n\nPanowie\, Wasza obecność na wydarzeniu też jest konieczna! W końcu
  kto inny jak nie Wy potrafi zadbać o dobry nastrój pięknych Pań? \n\n
 Jeżeli lubisz klimaty Earth\, Wind &amp\; Fire\, Kool &amp\; The Gang... 
 \nJeżeli lubisz pobujać się w latynoskich rytmach... \nJeżeli lubisz S
 hakirę\, Beyonce i Rihannę... \nMusisz wpaść w czwartek do Kwadratowej
 ! \n\nWeekend zaczyna się w... CZWARTEK! \nPanie wchodzą za FREE! Studen
 ci wchodzą za FREE za okazaniem ważnej legitymacji studecnkiej!\nReszta 
 5 zł! \nLista facebookowa do 23:00 wchodzi za FREE!\n\nPoczątek imprezy:
  22:00
ATTACH;FMTTYPE=image/jpeg:https://night4u.pl/wp-content/uploads/2020/02/16
 7166_image_85142630_3489355654439125_2185139357155852288_o.jpg
CATEGORIES:pomorskie
LOCATION:AK PG Kwadratowa\, Siedlicka 4\, Gdansk\, 80-222\, Poland
GEO:54.3708;18.61536
X-APPLE-STRUCTURED-LOCATION;VALUE=URI;X-ADDRESS=Siedlicka 4\, Gdansk\, 80-2
 22\, Poland;X-APPLE-RADIUS=100;X-TITLE=AK PG Kwadratowa:geo:54.3708,18.615
 36
END:VEVENT
BEGIN:VTIMEZONE
TZID:Europe/Warsaw
X-LIC-LOCATION:Europe/Warsaw
BEGIN:STANDARD
DTSTART:20191027T020000
TZOFFSETFROM:+0200
TZOFFSETTO:+0100
TZNAME:CET
END:STANDARD
END:VTIMEZONE
END:VCALENDAR