BEGIN:VCALENDAR
VERSION:2.0
PRODID:-//wp-events-plugin.com//7.2.3.1//EN
TZID:Europe/Warsaw
X-WR-TIMEZONE:Europe/Warsaw
BEGIN:VEVENT
UID:18955@night4u.pl
DTSTART;TZID=Europe/Warsaw:20190613T190000
DTEND;TZID=Europe/Warsaw:20190614T050000
DTSTAMP:20190611T180506Z
URL:https://night4u.pl/wydarzenia/lepiej-pic-piwo-niz-nie-pic-%e2%9c%a6-pe
 rla-za-3-pln-lista-fb-free-3/
SUMMARY:Lepiej PIĆ PIWO\, NIŻ NIE PIĆ! ✦ PERŁA za 3 PLN! * Lista FB F
 ree!
DESCRIPTION:LEPIEJ PIĆ PIWO NIŻ NIE PIĆ! ?\nCiężko się z tym nie zgod
 zić? ?\n\nPIWO PERŁA ZA 3 PLN! \n\nCzwartkowy chillout pod chmurką ze z
 najomymi!\nZaczynamy czwartkowe imprezy w Radości! ☀\nSchłodźcie się
  w basenie oraz pochillujcie ze znajomymi na leżaczkach! ?\n\nDJ's:\n- ZA
 MOJSKY\n\nOtwieramy o 19:00 i zapraszamy na BIFOR pod chmurką ze znajomym
 i!\n\n* Do 22:00 wstęp WOLNY!\n* Lista FB FREE CAŁĄ NOC!\n* Promocja na
  PIWO obowiązuje do 24:00\n* Wejście : 10 PLN\n* Selekcja : 18+
ATTACH;FMTTYPE=image/jpeg:https://night4u.pl/wp-content/uploads/2019/06/45
 851_image_62219729_1622486141229653_3955632212094746624_o.jpg
CATEGORIES:lubelskie
LOCATION:Radość\, ul. Bernardyńska 15\, Lublin\, 20-950\, Poland
GEO:51.24424;22.5673
X-APPLE-STRUCTURED-LOCATION;VALUE=URI;X-ADDRESS=ul. Bernardyńska 15\, Lubl
 in\, 20-950\, Poland;X-APPLE-RADIUS=100;X-TITLE=Radość:geo:51.24424,22.5
 673
END:VEVENT
BEGIN:VTIMEZONE
TZID:Europe/Warsaw
X-LIC-LOCATION:Europe/Warsaw
BEGIN:DAYLIGHT
DTSTART:20190331T030000
TZOFFSETFROM:+0100
TZOFFSETTO:+0200
TZNAME:CEST
END:DAYLIGHT
END:VTIMEZONE
END:VCALENDAR