BEGIN:VCALENDAR
VERSION:2.0
PRODID:-//wp-events-plugin.com//7.2.3.1//EN
TZID:Europe/Warsaw
X-WR-TIMEZONE:Europe/Warsaw
BEGIN:VEVENT
UID:27473@night4u.pl
DTSTART;TZID=Europe/Warsaw:20191003T200000
DTEND;TZID=Europe/Warsaw:20191003T220000
DTSTAMP:20190914T105657Z
URL:https://night4u.pl/wydarzenia/les-debouchers-niesieni-dzwiekami-francu
 skiego-jazzu/
SUMMARY:Les Débouchers / Niesieni dźwiękami francuskiego jazzu
DESCRIPTION:Zespół Les Déboucheurs pragnie zaskakiwać słuchaczy podró
 żą muzyczną po różnorodnym repertuarze współczesnego jazzu. Ich muz
 yka łączy elegancję francuskich walców z porywczością tang Astora Pi
 azzolli\, ekspresyjną fantazję współczesnego cygańskiego stylu gypsy 
 z delikatnością ballad znanych standardów jazzowych.\n\nDominik Pietras
 zek - skrzypce\nSzymon Kozikowski - gitara\nWojciech Chlanda - kontrabas
ATTACH;FMTTYPE=image/jpeg:https://night4u.pl/wp-content/uploads/2019/09/63
 966_image_69719671_10156685376708042_2303642465539719168_o.jpg
CATEGORIES:małopolskie
LOCATION:PROMINENT The Original Lounge Bar\, Kraków\, Poland
GEO:50.0754;19.94082
X-APPLE-STRUCTURED-LOCATION;VALUE=URI;X-ADDRESS=Kraków\, Poland;X-APPLE-RA
 DIUS=100;X-TITLE=PROMINENT The Original Lounge Bar:geo:50.0754,19.94082
END:VEVENT
BEGIN:VTIMEZONE
TZID:Europe/Warsaw
X-LIC-LOCATION:Europe/Warsaw
BEGIN:DAYLIGHT
DTSTART:20190331T030000
TZOFFSETFROM:+0100
TZOFFSETTO:+0200
TZNAME:CEST
END:DAYLIGHT
END:VTIMEZONE
END:VCALENDAR