BEGIN:VCALENDAR
VERSION:2.0
PRODID:-//wp-events-plugin.com//7.2.3.1//EN
TZID:Europe/Warsaw
X-WR-TIMEZONE:Europe/Warsaw
BEGIN:VEVENT
UID:39535@night4u.pl
DTSTART;TZID=Europe/Warsaw:20191213T210000
DTEND;TZID=Europe/Warsaw:20191215T030000
DTSTAMP:20191215T004114Z
URL:https://night4u.pl/wydarzenia/let-it-snow-disco-polo-klub/
SUMMARY:Let it snow!  DISCO POLO KLUB!
DESCRIPTION:❤️Let it snow❤️ Disco Hity\n\n💥13.12.2019- PIĄTEK
 💥\n🥂Lista Fb do 23.00 wejście FREE 🍺\n\n💥14.12.2019-SOBOTA
 💥\n🥂0\,5 Wódki + sok = 50zł 💥\n\n\n\nUDOSTĘPNIAMY WYDARZENIE! 
 ❤️
ATTACH;FMTTYPE=image/jpeg:https://night4u.pl/wp-content/uploads/2019/12/11
 6859_image_78926593_1169539149904773_6987820032910688256_o.jpg
CATEGORIES:podlaskie
LOCATION:DiscoPolo Klub\, Legionowa 14/16\, Białystok\, 15-099\, Poland
GEO:53.13039;23.15857
X-APPLE-STRUCTURED-LOCATION;VALUE=URI;X-ADDRESS=Legionowa 14/16\, Białysto
 k\, 15-099\, Poland;X-APPLE-RADIUS=100;X-TITLE=DiscoPolo Klub:geo:53.13039
 ,23.15857
END:VEVENT
BEGIN:VTIMEZONE
TZID:Europe/Warsaw
X-LIC-LOCATION:Europe/Warsaw
BEGIN:STANDARD
DTSTART:20191027T020000
TZOFFSETFROM:+0200
TZOFFSETTO:+0100
TZNAME:CET
END:STANDARD
END:VTIMEZONE
END:VCALENDAR