BEGIN:VCALENDAR
VERSION:2.0
PRODID:-//wp-events-plugin.com//7.2.3.1//EN
TZID:Europe/Warsaw
X-WR-TIMEZONE:Europe/Warsaw
BEGIN:VEVENT
UID:24439@night4u.pl
DTSTART;TZID=Europe/Warsaw:20190817T210000
DTEND;TZID=Europe/Warsaw:20190818T043000
DTSTAMP:20190809T215235Z
URL:https://night4u.pl/wydarzenia/letnie-halasowanie-17-08-lista-fb-free/
SUMMARY:Letnie HAŁASowanie ! // 17.08 // Lista FB Free!
DESCRIPTION:Sierpień zapowiada się na bardzo gorący\, ale to nic przy ty
 m co zgotuje w sobotę Hałasova oraz nasi goście: Fullarity oraz Cook/e!
  Wyskaczecie się ile się w nogach\, a do tego oczywiście hektolitry pys
 znych napoi wyskokowych! \n\nHAŁAS to gwarancja dobrej muzyki i świetnej
  zabawy. Ponownie zawitajcie w nasze progi\, a Panowie z HAŁASu zapewnią
  solidną dawkę decybeli i mocy. \n\nPamiętajcie: wszystkie drogi prowad
 zą do NRD!\nPamiętajcie: tylko dens ma sens!  ??\n\nZagrają\, (a właś
 ciwie zaHAŁASują):\n?️ Hałasova (HAŁAS / Drum&Bassova)\n?️ Fullari
 ty (Drum&Bassova)\n?️ Cook/e (Thecompressjah)\n\nKiedy: 17.08.2019 (sobo
 ta)\nO której: 22:00\nGdzie: NRD Klub\, ul. Browarna 6\, Toruń\nCo: hous
 e\, techno\, dnb (!)\, generalnie samo gęste?\nJak: grubo\, głośno i go
 rrrąco! ?\n\nBookujcie sobie datę w kalendarzu wakacyjnych szaleństw\, 
 widzimy się już niedługo!\n**************************\nPROMO DO 23 NA S
 ETY !:\n0\,5L ŻOŁĄDKOWA DE LUXE + 1L SOFTU = 60 PLN\n0\,5L ŻOŁĄDKOWA
  DE LUXE + 4 RED BULLE = 80 PLN\nBUSHMILLS 0\,7 + 1 L SOFTU = 120 PLN\n\n*
 Listę klasycznie zamykamy w dniu imprezy o 17. Ważna jest do 23!\n** Wst
 ęp dla osób pełnoletnich. Obowiązuje selekcja i regulamin klubu.\n\nWi
 dzimy się na Browarnej 6!
ATTACH;FMTTYPE=image/jpeg:https://night4u.pl/wp-content/uploads/2019/08/57
 516_image_67879765_2056074584496171_775293381348687872_o.jpg
CATEGORIES:kujawsko-pomorskie
LOCATION:NRD Klub\, Browarna 6\, Torun\, 87-100\, Poland
GEO:53.011128;18.612081
X-APPLE-STRUCTURED-LOCATION;VALUE=URI;X-ADDRESS=Browarna 6\, Torun\, 87-100
 \, Poland;X-APPLE-RADIUS=100;X-TITLE=NRD Klub:geo:53.011128,18.612081
END:VEVENT
BEGIN:VTIMEZONE
TZID:Europe/Warsaw
X-LIC-LOCATION:Europe/Warsaw
BEGIN:DAYLIGHT
DTSTART:20190331T030000
TZOFFSETFROM:+0100
TZOFFSETTO:+0200
TZNAME:CEST
END:DAYLIGHT
END:VTIMEZONE
END:VCALENDAR