BEGIN:VCALENDAR
VERSION:2.0
PRODID:-//wp-events-plugin.com//7.2.3.1//EN
TZID:Europe/Warsaw
X-WR-TIMEZONE:Europe/Warsaw
BEGIN:VEVENT
UID:42558@night4u.pl
DTSTART;TZID=Europe/Warsaw:20200110T210000
DTEND;TZID=Europe/Warsaw:20200111T040000
DTSTAMP:20200109T174408Z
URL:https://night4u.pl/wydarzenia/lets-dance-dj-sosia-piotr-radzio-sax/
SUMMARY:Let's dance | DJ Sosia &amp\; Piotr Radzio (sax)
DESCRIPTION:Let's Dance \nPut on your red shoes and dance the blues\nLet's 
 Dance \nTo the song they're playing on the radio\nLet's Sway \nWhile colou
 r lights up your face\nLet's Sway \nSway through the crowd to an empty spa
 ce\n\nLet's Dance \nFor fear your grace should fall\nLet's Dance \nFor fea
 r tonight is all\nLet's Sway\nYou could look into my eyes\nLet's Sway\nUnd
 er the moonlight\, this serious moonlight\n\nWizjoner\, geniusz\, człowie
 k o wielu twarzach. Artysta\, który wyznaczał trendy\, zmieniał muzykę
  i był jednym z najważniejszych przedstawicieli szeroko pojętego rocka.
  David Bowie był tak ekstrawagancki\, że wymykał się wszelkim normom\,
  ramom i subkulturom. Nie sposób go było przypisać do konkretnej szufla
 dy\, gdyż był jak kameleon. Jednak\, wbrew temu\, co dzisiaj się mówi 
 o niektórych wykonawcach\, u niego zmiany i poszukiwanie nowych brzmień 
 nie wiązało się z krytyką\, tylko z rosnącym uwielbieniem. Styczeń j
 est miesiącem w którym nie mogło go zabraknąć w BARdzo bardzo. Urodzo
 ny 8 stycznia 1946 r.\, odszedł od nas\, pozostawiając wspaniałe\, niez
 apomniane utwory dokładnie cztery lata temu. Już cztery lata temu. Zapom
 nijmy się ku jego pamięci w piątek - potańczmy z energią\, jaką on m
 iał na scenie i w życiu. Zagrają dla nas Piotr Radzio (sax) i Sonia Wą
 sowska (DJ). Na co dzień grają w electro-popowym projekcie Henrietta\, j
 ednak od czasu do czasu odchodzą od tej stylistyki. Tym razem zakręcą d
 la Was deckami tak\, żebyście tańczyli do białego rana. \n\nKARNAWAŁ 
 CZAS ZACZĄĆ! Wejście free\n#waw4free\n\n\n--- \n\nA visionary\, a geniu
 s\, a man of many faces. An artist who set trends\, changed music and was 
 one of the most important representatives of broadly defined rock. David B
 owie was so extravagant that he eluded all norms\, frameworks and subcultu
 res. It was impossible to assign him to a particular drawer because he was
  like a chameleon. However\, contrary to what is said about some performer
 s today\, his changes and search for new sounds were not associated with c
 riticism\, but with growing adoration. January is the month in which he co
 uld not miss BARDZO bardzo. Born on 8 January 1946\, he left us\, leaving 
 wonderful\, unforgettable songs exactly four years ago. Already four years
  ago. Let us forget about his memory on Friday - let us dance with the ene
 rgy he had on stage and in life. Sonia Wąsowska (DJ) will play for us. Sh
 e plays in Henrietta's electro-pop project on a daily basis\, but from tim
 e to time she departs from this style. This time he will spin the decks fo
 r you so that you can dance until early morning.
ATTACH;FMTTYPE=image/jpeg:https://night4u.pl/wp-content/uploads/2020/01/13
 4385_image_81790936_1215425352180155_3392853541969199104_o.jpg
CATEGORIES:mazowieckie
LOCATION:Klub Hydrozagadka\, 11 listopada 22\, 03-436 Warszawa\, Poland\, P
 raga\, 03-436\, Poland
GEO:52.259283;21.036925
X-APPLE-STRUCTURED-LOCATION;VALUE=URI;X-ADDRESS=11 listopada 22\, 03-436 Wa
 rszawa\, Poland\, Praga\, 03-436\, Poland;X-APPLE-RADIUS=100;X-TITLE=Klub 
 Hydrozagadka:geo:52.259283,21.036925
END:VEVENT
BEGIN:VTIMEZONE
TZID:Europe/Warsaw
X-LIC-LOCATION:Europe/Warsaw
BEGIN:STANDARD
DTSTART:20191027T020000
TZOFFSETFROM:+0200
TZOFFSETTO:+0100
TZNAME:CET
END:STANDARD
END:VTIMEZONE
END:VCALENDAR