BEGIN:VCALENDAR
VERSION:2.0
PRODID:-//wp-events-plugin.com//7.2.3.1//EN
TZID:Europe/Warsaw
X-WR-TIMEZONE:Europe/Warsaw
BEGIN:VEVENT
UID:38688@night4u.pl
DTSTART;TZID=Europe/Warsaw:20191225T220000
DTEND;TZID=Europe/Warsaw:20191226T060000
DTSTAMP:20191225T225827Z
URL:https://night4u.pl/wydarzenia/lets-glow-1-dzien-swiat-dj-seli-grand-f/
SUMMARY:Let's Glow : I Dzień Świąt : DJ Seli\, Grand F
DESCRIPTION:Po BassTerce nie zwalniamy i odpalamy Let's Glow w 1 dzień św
 iąt! Imprezę napędza uwielbiana przez wszystkich Agwa\, a największe m
 uzyczne hity będą nam dostarczać DJ Seli i Grand F! Musicie być z nami
 ! \n\nMUSIC : DJ Seli\, Grand F\n—————————————
 ——————\nStart : 22 / Selekcja \nRezerwacje: 666 13 14 15
ATTACH;FMTTYPE=image/jpeg:https://night4u.pl/wp-content/uploads/2019/12/11
 1071_image_78668466_10156667725272327_7924256726029697024_o.jpg
CATEGORIES:opolskie
LOCATION:Aqarium Music Club\, ul. Franciszkańska 1\, Opole\, 45-021\, Pola
 nd
GEO:50.66778;17.92274
X-APPLE-STRUCTURED-LOCATION;VALUE=URI;X-ADDRESS=ul. Franciszkańska 1\, Opo
 le\, 45-021\, Poland;X-APPLE-RADIUS=100;X-TITLE=Aqarium Music Club:geo:50.
 66778,17.92274
END:VEVENT
BEGIN:VTIMEZONE
TZID:Europe/Warsaw
X-LIC-LOCATION:Europe/Warsaw
BEGIN:STANDARD
DTSTART:20191027T020000
TZOFFSETFROM:+0200
TZOFFSETTO:+0100
TZNAME:CET
END:STANDARD
END:VTIMEZONE
END:VCALENDAR