BEGIN:VCALENDAR
VERSION:2.0
PRODID:-//wp-events-plugin.com//7.2.3.1//EN
TZID:Europe/Warsaw
X-WR-TIMEZONE:Europe/Warsaw
BEGIN:VEVENT
UID:32536@night4u.pl
DTSTART;TZID=Europe/Warsaw:20191017T220000
DTEND;TZID=Europe/Warsaw:20191018T040000
DTSTAMP:20191017T020011Z
URL:https://night4u.pl/wydarzenia/lets-meet-again-ladies-night-with-esn-ey
 e-esn-ul/
SUMMARY:Let's meet again Ladies night with ESN-EYE & ESN UŁ
DESCRIPTION:[ENGLISH VERSION BELOW] ⬇️⬇️⬇️\n\nStudenckie czwart
 ki?\nTo nic innego jak epickie Ladies Night przy Piotrkowskiej 102\nNie wi
 erzysz? Przyjdź i przekonaj się sam 💯\nDo północy panie piją za da
 rmo🥂🥂\n\n✖\n\nStudent's Thursdays?\nIt means nothing else than maj
 estic Ladies Night at Piotrkowska 102\nDon't you believe? Come and see 
 💯\nTill midnight ladies drink for free 🥂🥂
ATTACH;FMTTYPE=image/jpeg:https://night4u.pl/wp-content/uploads/2019/10/78
 228_image_72347531_10156567784922045_8848913861454069760_o.jpg
CATEGORIES:łódzkie
LOCATION:Lordi's Club\, Piotrkowska 102\, Łódź\, 90-010\, Poland
GEO:51.765169;19.45859
X-APPLE-STRUCTURED-LOCATION;VALUE=URI;X-ADDRESS=Piotrkowska 102\, Łódź\,
  90-010\, Poland;X-APPLE-RADIUS=100;X-TITLE=Lordi's Club:geo:51.765169,19.
 45859
END:VEVENT
BEGIN:VTIMEZONE
TZID:Europe/Warsaw
X-LIC-LOCATION:Europe/Warsaw
BEGIN:DAYLIGHT
DTSTART:20190331T030000
TZOFFSETFROM:+0100
TZOFFSETTO:+0200
TZNAME:CEST
END:DAYLIGHT
END:VTIMEZONE
END:VCALENDAR