BEGIN:VCALENDAR
VERSION:2.0
PRODID:-//wp-events-plugin.com//7.2.3.1//EN
TZID:Europe/Warsaw
X-WR-TIMEZONE:Europe/Warsaw
BEGIN:VEVENT
UID:48448@night4u.pl
DTSTART;TZID=Europe/Warsaw:20200228T220000
DTEND;TZID=Europe/Warsaw:20200229T040000
DTSTAMP:20200228T193537Z
URL:https://night4u.pl/wydarzenia/lets-roll-this-house-tomazzo/
SUMMARY:Let's Roll This House! | Tomazzo
DESCRIPTION:W ten piątek muzyczne stery przejmuje Tomazzo! Trzymajcie się
  mocno\, bo zabierze Was On w niezapomnianą podróż do najlepszych houso
 wych klasyków!\n\nTej nocy atmosferę budować będą również specjalni
 e przygotowywane koktajle\, sheeshe &amp\; smoketailes.\n\nMUSIC: Tomazzo\
 nStart: 22.00\nTIX: 20 PLN\n\n★ DRESS CODE ★\nDisco / cool / smart cas
 ual\n\n★ REZERWACJE ★ RESERVATIONS ★\nhttps://emenago.com/i/bankclub
 \n+48 795 445 162
ATTACH;FMTTYPE=image/jpeg:https://night4u.pl/wp-content/uploads/2020/02/16
 5667_image_87468690_953415105061007_6181528541146906624_o.jpg
CATEGORIES:mazowieckie
LOCATION:BLU CLUB\, Mazowiecka 14\, Warsaw\, 00-048\, Poland
GEO:52.23816;21.01309
X-APPLE-STRUCTURED-LOCATION;VALUE=URI;X-ADDRESS=Mazowiecka 14\, Warsaw\, 00
 -048\, Poland;X-APPLE-RADIUS=100;X-TITLE=BLU CLUB:geo:52.23816,21.01309
END:VEVENT
BEGIN:VTIMEZONE
TZID:Europe/Warsaw
X-LIC-LOCATION:Europe/Warsaw
BEGIN:STANDARD
DTSTART:20191027T020000
TZOFFSETFROM:+0200
TZOFFSETTO:+0100
TZNAME:CET
END:STANDARD
END:VTIMEZONE
END:VCALENDAR