BEGIN:VCALENDAR
VERSION:2.0
PRODID:-//wp-events-plugin.com//7.2.3.1//EN
TZID:Europe/Warsaw
X-WR-TIMEZONE:Europe/Warsaw
BEGIN:VEVENT
UID:38620@night4u.pl
DTSTART;TZID=Europe/Warsaw:20191228T220000
DTEND;TZID=Europe/Warsaw:20191229T040000
DTSTAMP:20191228T053931Z
URL:https://night4u.pl/wydarzenia/lets-start-to-celebrate-dj-snaav-i-dj-ri
 stoff-28-12-2019/
SUMMARY:Let's Start to Celebrate // DJ Snaav i DJ Ristoff // 28.12.2019
DESCRIPTION:Rozpoczynamy przed - sylwestrowy before!\nDJ SNAAV :\n\nSnaav\,
  właśc. Dominik Gręda (ur. 21 marca 1995 w Krakowie) – polski DJ\, wy
 konujący muzykę z gatunków House\, R&amp\;B\, Latin\, Pop\, Rap oraz Tr
 ap.      \n\n     Od 2010 roku\, zainspirowany twórczością szwedzkich p
 roducentów\, takich jak: Avicii\, Swedish House Mafia \, Alesso\, Otto Kn
 ows\, zaczął poważnie interesować się muzyką EDM\, aby \npo kilku la
 tach spróbować swoich sił jako DJ. \n\n     Obecnie współpracuje kilk
 unastoma klubami w Krakowie i jest rezydentem w klubach Four Music Club i 
 Choice Music Club.\n\nRezerwacje: \nDominika: + 48 505 725 060 / d.pisanko
 @choiceclub.pl \n\nKlub Choice zastrzega sobie prawo do selekcji Gości.
ATTACH;FMTTYPE=image/jpeg:https://night4u.pl/wp-content/uploads/2019/12/11
 0504_image_73390831_1743528805780371_8167254593974042624_o.jpg
CATEGORIES:małopolskie
LOCATION:Choice Club\, Floriańska 15\, Kraków\, 31-019\, Poland
GEO:50.06271;19.93987
X-APPLE-STRUCTURED-LOCATION;VALUE=URI;X-ADDRESS=Floriańska 15\, Kraków\, 
 31-019\, Poland;X-APPLE-RADIUS=100;X-TITLE=Choice Club:geo:50.06271,19.939
 87
END:VEVENT
BEGIN:VTIMEZONE
TZID:Europe/Warsaw
X-LIC-LOCATION:Europe/Warsaw
BEGIN:STANDARD
DTSTART:20191027T020000
TZOFFSETFROM:+0200
TZOFFSETTO:+0100
TZNAME:CET
END:STANDARD
END:VTIMEZONE
END:VCALENDAR