BEGIN:VCALENDAR
VERSION:2.0
PRODID:-//wp-events-plugin.com//7.2.3.1//EN
TZID:Europe/Warsaw
X-WR-TIMEZONE:Europe/Warsaw
BEGIN:VEVENT
UID:16152@night4u.pl
DTSTART;TZID=Europe/Warsaw:20190525T210500
DTEND;TZID=Europe/Warsaw:20190526T020500
DTSTAMP:20190514T213738Z
URL:https://night4u.pl/wydarzenia/lets-twist-again-%e2%98%86sobota-25-05-%
 e2%98%86niekasyno-%e2%98%86-lublin/
SUMMARY:Let's Twist Again! ☆Sobota//25.05.// ☆Niekasyno ☆//lublin
DESCRIPTION:NIEKASYNO\nUL.BERNARDYŃSKA 3\nSOBOTA 25.05.2019r.\nSTART – 2
 1  z minutami:) \nWEJŚCIE OD 18 LAT\nWSTĘP : 10 PLN // maturzyści i stu
 denci 8 PLN //\n\n\nPo dobrze przyjętej poprzedniej edycji imprezy zapras
 zamy do lokalu NIEKASYNO na kolejną dawkę muzyki z lat 50-tych i 60-tych
 . Podczas wieczoru z głośników popłyną dźwięki z czasów świetnoś
 ci ROCKN'ROLLA \,ROCKABILLY\, BIG-BEATU \, SURF i GARAGE ROCKA. Nie zabrak
 nie znanych kawałków takich wykonawców jak min : BILL HALEY\, THE BEATL
 ES \, ROLLING STONES\, TROGGS\, ELVIS PRESLEY\, CHUBBY CHECKER\, CHUCK BER
 RY\, CZERWONE GITARY\, NIEBIESKO-CZARNI\, czy utworów z filmów (np. GREA
 SE\, PULP FICTION\, DIRTY DANCING\, LA BAMBA)\, jak i mniej znanych lecz r
 ównie przebojowych piosenek \, które same porwą do tańca. Chcemy żeby
 ście choć trochę poczuli się jak bywalcy prywatek z tamtych czasów\, 
 dlatego zachęcamy do konkretnej stylizacji: "PIN-UP GIRLS"\, "TEDDY BOYS"
  .\n\nImprezę rozkręcą: \n\nMIKE //Let's Twist Again//\ni \nWOJTEK \n\n
 \n: KLIMAT: rock 'n' roll * rockabilly * doo-wop * boogie-woogie * polish 
 bigbeat * garage 66' * surf rock * garage rock * rhythm & blues * 50's & 6
 0's*
ATTACH;FMTTYPE=image/jpeg:https://night4u.pl/wp-content/uploads/2019/05/39
 583_image_60144252_1134867900031146_3170490977542471680_o.jpg
CATEGORIES:lubelskie
LOCATION:Niekasyno\, Lublin\, ul.Bernardyńska 3\, Lublin\, 20-109\, Poland
GEO:52.48278;23.203125
X-APPLE-STRUCTURED-LOCATION;VALUE=URI;X-ADDRESS=Lublin\, ul.Bernardyńska 3
 \, Lublin\, 20-109\, Poland;X-APPLE-RADIUS=100;X-TITLE=Niekasyno:geo:52.48
 278,23.203125
END:VEVENT
BEGIN:VTIMEZONE
TZID:Europe/Warsaw
X-LIC-LOCATION:Europe/Warsaw
BEGIN:DAYLIGHT
DTSTART:20190331T030000
TZOFFSETFROM:+0100
TZOFFSETTO:+0200
TZNAME:CEST
END:DAYLIGHT
END:VTIMEZONE
END:VCALENDAR