BEGIN:VCALENDAR
VERSION:2.0
PRODID:-//wp-events-plugin.com//7.2.3.1//EN
TZID:Europe/Warsaw
X-WR-TIMEZONE:Europe/Warsaw
BEGIN:VEVENT
UID:6064@night4u.pl
DTSTART;TZID=Europe/Warsaw:20190201T220000
DTEND;TZID=Europe/Warsaw:20190202T040000
DTSTAMP:20190201T053243Z
URL:https://night4u.pl/wydarzenia/lets-twist-again-dj-twister-1-02/
SUMMARY:Let’s Twist AGAIN – Dj Twister – 1.02
DESCRIPTION:Let’s Twist AGAIN – Dj Twister – 1.02\n\nPo raz kolejny z
 akręcimy się z Dj Twisterr na imprezie pt. „Let's Twist Again”. Grze
 gorz to pozytywnie zakręcony gość a przede wszystkim djski magik! \nZap
 raszamy na zakręcony piątek do SODA 2.0 club & lounge bare bar!\n\nStart
  + 22:00\nRSVD 693 99 44 24 \nSODA 2.0 club & lounge bar\nEnjoy nights to 
 remember
ATTACH;FMTTYPE=image/jpeg:https://night4u.pl/wp-content/uploads/2019/02/18
 159_image_51014028_2819385994741891_4772328498356289536_o.jpg
CATEGORIES:kujawsko-pomorskie
LOCATION:SODA 2.0 club & lounge bar\, Mostowa 4\, Bydgoszcz\, 85-110\, Pola
 nd
GEO:53.12262;18.001657
X-APPLE-STRUCTURED-LOCATION;VALUE=URI;X-ADDRESS=Mostowa 4\, Bydgoszcz\, 85-
 110\, Poland;X-APPLE-RADIUS=100;X-TITLE=SODA 2.0 club & lounge bar:geo:53.
 12262,18.001657
END:VEVENT
BEGIN:VTIMEZONE
TZID:Europe/Warsaw
X-LIC-LOCATION:Europe/Warsaw
BEGIN:STANDARD
DTSTART:20181028T020000
TZOFFSETFROM:+0200
TZOFFSETTO:+0100
TZNAME:CET
END:STANDARD
END:VTIMEZONE
END:VCALENDAR