BEGIN:VCALENDAR
VERSION:2.0
PRODID:-//wp-events-plugin.com//7.2.3.1//EN
TZID:Europe/Warsaw
X-WR-TIMEZONE:Europe/Warsaw
BEGIN:VEVENT
UID:28518@night4u.pl
DTSTART;TZID=Europe/Warsaw:20191018T223000
DTEND;TZID=Europe/Warsaw:20191019T073000
DTSTAMP:20191018T105441Z
URL:https://night4u.pl/wydarzenia/liestyle-party-hard-x-prozak-2-0-3/
SUMMARY:Liestyle Party Hard x Prozak 2.0
DESCRIPTION:Październik miesiącem melanżu - tak zarządziła minister ro
 zwoju socjalnego  Barbara Kacyk. Nie będziemy się kłócić z tymi rozpo
 rządzeniami i posłusznie stawimy się 19.10 w Prozaku. Kto wie... może 
 to początek wspaniałych zmian i wszyscy ludzie lekko wyluzują 💪🤙
 ♥️\n\n[-1] liestyle* party hard!\nBC GANG$TEPPAZ\nDJ Sky\nZesty Zest\n
 \nDo 23:00: wejście FREE dla osób “biorących udział” w wydarzeniu.
 \nPo 23:00: 20/ 30 PLN.\n\n---\n\nMORE INFO SOON!\n\n[-1] liestyle* party 
 hard!\nBC GANG$TEPPAZ\nDJ Sky\nZesty Zest\n\nBy 11:00pm: FREE entry for Fa
 cebook “going” list.\nAfter 11:00pm: 20/ 30 PLN.
ATTACH;FMTTYPE=image/jpeg:https://night4u.pl/wp-content/uploads/2019/09/66
 017_image_71867268_2520421814685219_1618151047849574400_o.jpg
CATEGORIES:małopolskie
LOCATION:Prozak 2.0\, Plac Dominikański 6\, Kraków\, 31-032\, Poland
GEO:50.058986;19.938203
X-APPLE-STRUCTURED-LOCATION;VALUE=URI;X-ADDRESS=Plac Dominikański 6\, Krak
 ów\, 31-032\, Poland;X-APPLE-RADIUS=100;X-TITLE=Prozak 2.0:geo:50.058986,
 19.938203
END:VEVENT
BEGIN:VTIMEZONE
TZID:Europe/Warsaw
X-LIC-LOCATION:Europe/Warsaw
BEGIN:DAYLIGHT
DTSTART:20190331T030000
TZOFFSETFROM:+0100
TZOFFSETTO:+0200
TZNAME:CEST
END:DAYLIGHT
END:VTIMEZONE
END:VCALENDAR