BEGIN:VCALENDAR
VERSION:2.0
PRODID:-//wp-events-plugin.com//7.2.3.1//EN
TZID:Europe/Warsaw
X-WR-TIMEZONE:Europe/Warsaw
BEGIN:VEVENT
UID:30269@night4u.pl
DTSTART;TZID=Europe/Warsaw:20191011T220000
DTEND;TZID=Europe/Warsaw:20191011T220000
DTSTAMP:20191003T234727Z
URL:https://night4u.pl/wydarzenia/light-my-house-feat-mike-g-x-teatr-club-
 11-10/
SUMMARY:LIGHT MY HOUSE feat. MIKE G x Teatr club // 11.10
DESCRIPTION:________________________________________________\n\nStart: 22:0
 0 \nDress code: SMART CASUAL!\nBilety: 10pln \nWstęp / +18\nLADIES VIP CA
 RD - CAŁĄ NOC FREE\nVIP CARD - CAŁĄ NOC FREE\nRezerwacje:\ntel.: +48 5
 08 508 488 (pn-sob. 12:00-20:00)
ATTACH;FMTTYPE=image/jpeg:https://night4u.pl/wp-content/uploads/2019/10/69
 802_image_71221894_2424714771141125_541875601166827520_n.jpg
CATEGORIES:łódzkie
LOCATION:Teatr Club - Łódź\, Moniuszki 4a\, Łódź\, 90-111\, Poland
GEO:51.768714;19.457977
X-APPLE-STRUCTURED-LOCATION;VALUE=URI;X-ADDRESS=Moniuszki 4a\, Łódź\, 90
 -111\, Poland;X-APPLE-RADIUS=100;X-TITLE=Teatr Club - Łódź:geo:51.76871
 4,19.457977
END:VEVENT
BEGIN:VTIMEZONE
TZID:Europe/Warsaw
X-LIC-LOCATION:Europe/Warsaw
BEGIN:DAYLIGHT
DTSTART:20190331T030000
TZOFFSETFROM:+0100
TZOFFSETTO:+0200
TZNAME:CEST
END:DAYLIGHT
END:VTIMEZONE
END:VCALENDAR