BEGIN:VCALENDAR
VERSION:2.0
PRODID:-//wp-events-plugin.com//7.2.3.1//EN
TZID:Europe/Warsaw
X-WR-TIMEZONE:Europe/Warsaw
BEGIN:VEVENT
UID:38966@night4u.pl
DTSTART;TZID=Europe/Warsaw:20191214T210000
DTEND;TZID=Europe/Warsaw:20191215T040000
DTSTAMP:20191215T010619Z
URL:https://night4u.pl/wydarzenia/lil-masti-16%e2%98%86-kolbuszowa-%e2%98%
 86-club-bogacz/
SUMMARY:LIL MASTI [+16]☆ Kolbuszowa ☆ Club Bogacz
DESCRIPTION:Piękna\, kontrowersyjna i mega popularna\, uczestniczka FAME M
 MA! - LIL MASTI - już 14 grudnia w naszym klubie na żywo! \n\nWstęp: +1
 6\nBilety:\nU promotorów: 15zł\nW dniu imprezy przy wejściu: 20zł\n\nS
 tart: 21:00
ATTACH;FMTTYPE=image/jpeg:https://night4u.pl/wp-content/uploads/2019/12/11
 2824_image_74627030_2774253359306241_2518018753027899392_o.jpg
CATEGORIES:podkarpackie
LOCATION:Klub Bogacz Kolbuszowa\, ul.Towarowa 9\, Kolbuszowa\, 36-100\, Pol
 and
GEO:50.24177;21.78551
X-APPLE-STRUCTURED-LOCATION;VALUE=URI;X-ADDRESS=ul.Towarowa 9\, Kolbuszowa\
 , 36-100\, Poland;X-APPLE-RADIUS=100;X-TITLE=Klub Bogacz Kolbuszowa:geo:50
 .24177,21.78551
END:VEVENT
BEGIN:VTIMEZONE
TZID:Europe/Warsaw
X-LIC-LOCATION:Europe/Warsaw
BEGIN:STANDARD
DTSTART:20191027T020000
TZOFFSETFROM:+0200
TZOFFSETTO:+0100
TZNAME:CET
END:STANDARD
END:VTIMEZONE
END:VCALENDAR