BEGIN:VCALENDAR
VERSION:2.0
PRODID:-//wp-events-plugin.com//7.2.3.1//EN
TZID:Europe/Warsaw
X-WR-TIMEZONE:Europe/Warsaw
BEGIN:VEVENT
UID:6819@night4u.pl
DTSTART;TZID=Europe/Warsaw:20190312T200000
DTEND;TZID=Europe/Warsaw:20190312T230000
DTSTAMP:20190210T152429Z
URL:https://night4u.pl/wydarzenia/linkin-park-tribute-show-w-starej-piwnic
 y/
SUMMARY:Linkin Park Tribute Show w Starej Piwnicy!
DESCRIPTION:Linkin Park Tribute Show w Starej Piwnicy!\n\nFanów zespołu L
 inkin Park zapraszamy 12 marca do klubu Stara Piwnica.\nMuzyczny wieczór 
 pod hasłem Linkin Park Tribute Show poprowadzi znakomity tribute band New
 Tonz z Kijowa\nNewTonz to prawdziwa muzyczna petarda! Elektryzują publicz
 ność na każdym swoim koncercie\, a wszystkie utwory Linkin Park mają o
 panowane do perfekcji. \nZespół „NewTonz" brzmi dokładnie tak samo ja
 ko oryginał. \nSprawdźcie chłopaków sami!\nhttps://youtu.be/UQ_R0uIxkO
 g\n\n12.03.19 godz.20:00 klub muzyczny Stara Piwnica\, ul. Krupnicza 15\nL
 INKIN PARK TRIBUTE SHOW - NewTonz (Ukraina)\nbilety: 30 zł - przedsprzeda
 ż w klubie i rezerwacje: bilety@o2.pl\, 35 zł - w punktach sprzedaży\, 
 40 zł - w dniu koncertu\n\n\nBilety dostępne w sieci salonów Empik i Me
 diaMarkt w całej Polsce\noraz w serwisach: www.starapiwnica.com.pl/bilety
 /\, www.biletin.pl\, www.eventim.pl\, www.biletyna.pl\, www.ebilet.pl\, ww
 w.kupbilecik.pl\, www.empikbilety.pl\nrezerwacje: bilety@o2.pl \n\nUwaga\,
  kupuj bilety wyłącznie w autoryzowanych punktach! \nZakup biletów poza
  autoryzowanymi punktami sprzedaży (Facebook\, aukcje internetowe\, syste
 my odsprzedaży biletów itp.) stwarza ryzyko zakupu biletów nieoryginaln
 ych lub nieważnych\, które nie umożliwią wejścia na koncert.
ATTACH;FMTTYPE=image/jpeg:https://night4u.pl/wp-content/uploads/2019/02/19
 921_image_49756949_1729121590522765_3078717911657873408_n.jpg
CATEGORIES:dolnośląskie
LOCATION:Stara Piwnica\, ul.Krupnicza 15\, Wroclaw\, 50-075\, Poland
GEO:51.107322;17.025332
X-APPLE-STRUCTURED-LOCATION;VALUE=URI;X-ADDRESS=ul.Krupnicza 15\, Wroclaw\,
  50-075\, Poland;X-APPLE-RADIUS=100;X-TITLE=Stara Piwnica:geo:51.107322,17
 .025332
END:VEVENT
BEGIN:VTIMEZONE
TZID:Europe/Warsaw
X-LIC-LOCATION:Europe/Warsaw
BEGIN:STANDARD
DTSTART:20181028T020000
TZOFFSETFROM:+0200
TZOFFSETTO:+0100
TZNAME:CET
END:STANDARD
END:VTIMEZONE
END:VCALENDAR