BEGIN:VCALENDAR
VERSION:2.0
PRODID:-//wp-events-plugin.com//7.2.3.1//EN
TZID:Europe/Warsaw
X-WR-TIMEZONE:Europe/Warsaw
BEGIN:VEVENT
UID:5706@night4u.pl
DTSTART;TZID=Europe/Warsaw:20190301T230000
DTEND;TZID=Europe/Warsaw:20190302T053000
DTSTAMP:20190206T194307Z
URL:https://night4u.pl/wydarzenia/liquid-ritual-ofdream-kareful-mystxrivl-
 enjoii/
SUMMARY:Liquid Ritual: Øfdream\, Kareful\, Mystxrivl\, enjoii
DESCRIPTION:Liquid Ritual po raz kolejny w Krakowie!\n\nCykl ma na celu pro
 mowanie undergroundowej muzyki wave i całego spektrum gatunków basowych 
 wywodzących się z UK takich jak: future garage\, grime czy dubstep.\n\n
 Øfdream (FR) - Wavemob\nPo raz pierwszy w Polsce zagra ØFDREAM - produce
 nt z Francji i członek kolektywu wavemob. Jest jednym z pionierów coraz 
 popularniejszego gatunku wave\, a jego styl muzyczny cechuje się niepowta
 rzalnym klimatem i unikalnym brzmieniem. Najpopularniejsze utwory Øfdream
 ’a to m.in.: “Fifth Gate” oraz “First Woe”. Do tej pory miał ok
 azję występować na jednej scenie z takimi artystami jak Lorn czy Vitali
 c\, a w zeszłym roku zagrał swój pierwszy set w USA.\n \n\nKareful (UK)
  - Liquid Ritual\nBardzo dobrze Wam znany i lubiany producent z Londynu. J
 eden z założycieli rozrastającego się labelu Liquid Ritual\, twórca t
 akich hitów jak “Emerald Halls” czy “Backwards”. Jego muzyka char
 akteryzuje się cukierkowym brzmieniem i chwytliwymi melodiami. Oprócz bo
 gatego doświadczenia producenckiego Jude może pochwalić się także dł
 ugą listą eventów na których był headlinerem.\n\n\nMYSTXRIVL (PL) - L
 iquid Ritual/Wavemob\nArtysta znany ze swoich eterycznych dźwięków i dy
 namicznych bassline’ów. Jego muzyka to miks gatunków takich jak: post-
 dubstep\, trance\, r&b. W ostatnich latach mroczne i emocjonalne kompozycj
 e MYSTXRIVL’a zyskały uznanie fanów muzyki wave\, lecz cały czas posz
 ukuje on nowych brzmień i inspiracji. Jego najsłynniejsze tracki to “M
 oonshinx” oraz “Pixel” z Sokosem.\n\n\nenjoii (PL) - Liquid Ritual\n
 Producent z wschodniej Polski. Jego twórczość to własna interpretacja 
 tego\, co go inspiruje - począwszy od ulubionych artystów\, na samym ży
 ciu kończąc. W jego produkcjach dominuje mroczny bass przeplatany emocjo
 nalnymi melodiami. Nie utożsamia się z konkretnym gatunkiem\, woli okre
 ślać swoją muzykę mianem mrocznej i emocjonalnej jednak słychać w ni
 ej wpływ wave'u\, dubstepu czy trapu. W 2018 roku wydał EP “Life Alone
 ” w labelu Liquid Ritual. Możecie go znać z takich utworów jak “Kat
 e” czy “Obsess”.\n\n\nMajki (PL) - up2date.pl\nZapalony kolekcjoner 
 płyt winylowych i działacz Up To Date Festival. Jego sety to kombinacja 
 wszystkiego co jest przesiąknięte tłustym basem od juke'ów po ostry dr
 um and bass. Od lat aktywnie promuje undergroundowych producentów w Klubi
 e Metro w Białymstoku.\nhttps://www.instagram.com/worowski\n\n--------\nI
 mpreza odbędzie się na poziomie (-2). Bardzo ważne abyście na bramce p
 owiedzieli\, że idziecie na imprezę Liquid Ritual na poziom -2.\n\nParty
  will be on (-2) floor\, it’s really important to say on entrance that y
 ou are going on Liquid Ritual party on -2nd floor.\n--------\nTax:\nDo 24:
 00 - 15 zł\nPo 24:00 - 20 zł
ATTACH;FMTTYPE=image/jpeg:https://night4u.pl/wp-content/uploads/2019/01/17
 365_image_51254686_1220757501423205_5932738896919003136_o.jpg
CATEGORIES:małopolskie
LOCATION:Prozak 2.0\, Plac Dominikański 6\, Kraków\, 31-032\, Poland
GEO:50.058986;19.938203
X-APPLE-STRUCTURED-LOCATION;VALUE=URI;X-ADDRESS=Plac Dominikański 6\, Krak
 ów\, 31-032\, Poland;X-APPLE-RADIUS=100;X-TITLE=Prozak 2.0:geo:50.058986,
 19.938203
END:VEVENT
BEGIN:VTIMEZONE
TZID:Europe/Warsaw
X-LIC-LOCATION:Europe/Warsaw
BEGIN:STANDARD
DTSTART:20181028T020000
TZOFFSETFROM:+0200
TZOFFSETTO:+0100
TZNAME:CET
END:STANDARD
END:VTIMEZONE
END:VCALENDAR