BEGIN:VCALENDAR
VERSION:2.0
PRODID:-//wp-events-plugin.com//7.2.3.1//EN
TZID:Europe/Warsaw
X-WR-TIMEZONE:Europe/Warsaw
BEGIN:VEVENT
UID:6863@night4u.pl
DTSTART;TZID=Europe/Warsaw:20190611T200000
DTEND;TZID=Europe/Warsaw:20190611T230000
DTSTAMP:20190210T153148Z
URL:https://night4u.pl/wydarzenia/lisa-gerrard-dead-can-dance-i-the-myster
 y-of-bulgarian-voices/
SUMMARY:Lisa Gerrard (Dead Can Dance) i The Mystery Of Bulgarian Voices
DESCRIPTION:Lisa Gerrard z zespołu Dead Can Dance i chór The Mystery Of B
 ulgarian Voices  wystąpią we Wrocławiu! Legendarny bułgarski chór The
  Mystery of the Bulgarian Voices wraz ze współzałożycielką Dead Can D
 ance Lisą Gerrard wystąpią we Wrocławiu! \n\nKoncert odbędzie się 11
  czerwca 2019 w Teatrze Muzycznym Capitol w ramach Ethno Jazz Festival.  T
 o wyjątkowe muzyczne wydarzenie - Bułgarki powracają po ponad dwudziest
 oletniej przerwie i łączą siły z artystką\, która wywarła ogromny w
 pływ na scenę niezależną. Na muzyce Dead Can Dance wychowało się ca
 łe pokolenie wrażliwej publiczności. Wspólny projekt „BooCheMish” 
 bazuje na połączeniu unikalnych wokali Lisy\, Bułgarek i Skillera\, mis
 trza świata w beatboxingu.\n\nChór The Mystery of the Bulgarian Voices\,
  znany też jako Le Mystère des Voix Bulgares\, powstał w 1952 roku jako
  Kobiecy Chór Telewizji Bułgarskiej. W latach 60. XX wieku odkrył go po
 dróżujący po Bałkanach szwajcarski producent Marcel Cellier i po wielu
  latach doprowadził do wydania pierwszej płyty zespołu. W 1975 ukazał 
 się niepozorny album „Le Mystère des Voix Bulgares”. Nikt nie podejr
 zewał\, że dzięki temu wydawnictwu dekadę później Bułgarki zyskają
  ogólnoświatową sławę. Peter Murphy z Bauhausu puścił tę płytę I
 vo Watts-Russelowi\, szefowi legendarnej wytwórni 4AD. Zachwycony Russel 
 natychmiast wypuścił reedycję i doprowadził do wydania kolejnych. Albu
 m „Le Mystère des Voix Bulgares\, Volume 2” zdobył w 1989 nagrodę G
 rammy. Fenomen pieśniarek to rezultat połączenia ponadtysiącletniej bu
 łgarskiej sztuki wokalnej z nowoczesnymi brzmieniami i wielowarstwowymi k
 ompozycjami. Ich umiejętności doceniła Kate Bush\, która z trzema spo
 śród nich nagrała płyty „The Sensual World” i „The Red Shoes”.
  \n\nLisy Gerrard polskiej publiczności przedstawiać nie trzeba. Współ
 założycielka Dead Can Dance słynie z równie pięknego\, co oryginalneg
 o wokalu\, inspirowanego muzyką dawną\, chorałami gregoriańskimi i sze
 roko pojmowaną world music. Duet Dead Can Dance powstał w 1981 roku\, tr
 zy lata później wydał w wytwórni 4AD swoją debiutancką płytę\, ale
  prawdziwą sławę przyniosły mu nagrane w latach 1985-1988 albumy „Sp
 leen and Ideal”\n\n“Within the Realm of a Dying Sun” I “The Serpen
 t's Egg”. Lisa była również jednym z filarów supergrupy This Mortal 
 Coil. W 1995 roku artystka rozpoczęła karierę solową. Nagrała ciepło
  przyjęty album „The Mirror Pool”\, potwierdzający jej potężne mo
 żliwości wokalne\, współpracowała z Klausem Schulze z Tangerine Dream
  i pisała muzykę do filmów. Skomponowana wraz z Hansem Zimmerem ścież
 ka dźwiękowa do „Gladiatora” zdobyła nominację do Oscara. \n\nW pr
 ojekcie „BooCheeMish” uczestniczy również Skiller\, bułgarski mistr
 z świata w beatboxingu z 2012 roku. Aleksandar Deyanov unika hip-hopowych
  inspiracji\, traktując beatbox jako sztukę wokalną i sięgając do ró
 żnorodnych tradycji muzycznych. Występował m.in. z Shaggy’m\, Stereo 
 MCs i Transglobal Underground. Skład uzupełniają perkusjonista David Ku
 ckhermann i orkiestra smyczkowa. \n\nKoncert “BooCheeMish” będzie pod
 zielony na trzy części. W pierwszej z nich wystąpią pieśniarki z The 
 Mystery Of The Bulgarian Voices w tradycyjnym repertuarze\, wspomagane prz
 ez Skillera\, w drugiej Lisa Gerrard wykona swoje utwory w towarzystwie ch
 órzystek i Skillera\, a w trzeciej zaprezentowane zostaną kompozycje prz
 ygotowane specjalnie na tę okazję i wykonane a’cappella przez chór i 
 Lisę Gerrard. Będą niespodzianki\, partie solowe\, improwizacje i nieus
 tające zderzenia pozornie nieprzystających do siebie muzycznych tradycji
 \, które dzieli ponad tysiąc lat.\n\nTHE MYSTERY OF THE BULGARIAN VOICES
  feat. LISA GERRARD – "BooCheMish"\n\n11.06.19 godz 20.00 \nTeatr Muzycz
 ny Capitol\, ul. Piłsudskiego 67\nEthno Jazz Festival
ATTACH;FMTTYPE=image/jpeg:https://night4u.pl/wp-content/uploads/2019/02/20
 022_image_48355850_1982427368539055_2328108643662168064_n.jpg
CATEGORIES:dolnośląskie
LOCATION:Teatr Muzyczny Capitol\, ul. Piłsudskiego 67\, Wroclaw\, 50-019\,
  Poland
GEO:51.100946;17.030158
X-APPLE-STRUCTURED-LOCATION;VALUE=URI;X-ADDRESS=ul. Piłsudskiego 67\, Wroc
 law\, 50-019\, Poland;X-APPLE-RADIUS=100;X-TITLE=Teatr Muzyczny Capitol:ge
 o:51.100946,17.030158
END:VEVENT
BEGIN:VTIMEZONE
TZID:Europe/Warsaw
X-LIC-LOCATION:Europe/Warsaw
BEGIN:DAYLIGHT
DTSTART:20190331T030000
TZOFFSETFROM:+0100
TZOFFSETTO:+0200
TZNAME:CEST
END:DAYLIGHT
END:VTIMEZONE
END:VCALENDAR