BEGIN:VCALENDAR
VERSION:2.0
PRODID:-//wp-events-plugin.com//7.2.3.1//EN
TZID:Europe/Warsaw
X-WR-TIMEZONE:Europe/Warsaw
BEGIN:VEVENT
UID:35773@night4u.pl
DTSTART;TZID=Europe/Warsaw:20191116T190000
DTEND;TZID=Europe/Warsaw:20191116T233000
DTSTAMP:20191115T233527Z
URL:https://night4u.pl/wydarzenia/listopad-w-rytmie-aperitivo-dj-brixx/
SUMMARY:Listopad w rytmie Aperitivo // Dj Brixx
DESCRIPTION:#PrzyjacieleAperitivo\n\nRozpoczynamy Listopad przy ulubionym k
 oktajlu oraz miłym towarzystwie ekipy Bombardino Aperitivo. To dobra opcj
 a na sobotni wieczór. Dokładamy do tego muzyczkę od Martina Brixxa i ma
 my przepis na idealny listopadowy wieczór 👌🏼\nCzekamy na Was na Nar
 utowicza 19.\n\n▪️Zachęcamy do rezerwacji stolika 💁🏼‍♀️\n
 ▪️Start : 19:00 \n▪️Muzyka : Martin Brixx
ATTACH;FMTTYPE=image/jpeg:https://night4u.pl/wp-content/uploads/2019/11/94
 978_image_74322593_531281487723921_3747190877919903744_o.jpg
CATEGORIES:lubelskie
LOCATION:Bombardino Aperitivo Narutowicza\, Narutowicza 19\, Lublin\, 20-00
 4\, Poland
GEO:51.24622;22.56082
X-APPLE-STRUCTURED-LOCATION;VALUE=URI;X-ADDRESS=Narutowicza 19\, Lublin\, 2
 0-004\, Poland;X-APPLE-RADIUS=100;X-TITLE=Bombardino Aperitivo Narutowicza
 :geo:51.24622,22.56082
END:VEVENT
BEGIN:VTIMEZONE
TZID:Europe/Warsaw
X-LIC-LOCATION:Europe/Warsaw
BEGIN:STANDARD
DTSTART:20191027T020000
TZOFFSETFROM:+0200
TZOFFSETTO:+0100
TZNAME:CET
END:STANDARD
END:VTIMEZONE
END:VCALENDAR