BEGIN:VCALENDAR
VERSION:2.0
PRODID:-//wp-events-plugin.com//7.2.3.1//EN
TZID:Europe/Warsaw
X-WR-TIMEZONE:Europe/Warsaw
BEGIN:VEVENT
UID:51781@night4u.pl
DTSTART;TZID=Europe/Warsaw:20241221T220000
DTEND;TZID=Europe/Warsaw:20241222T010000
DTSTAMP:20241217T214755Z
URL:https://night4u.pl/wydarzenia/listy-do-m-x-bajka-rzeszow-21-12/
SUMMARY:Listy do M  x Bajka Rzeszów / 21.12
DESCRIPTION:21.12 SOBOTA\n\n🔝🔝🔝🔝🔝\n\nLISTY DO M X BAJKA RZES
 ZÓW X LISTA FB FREE\n\n⚡⚡⚡⚡⚡\n\nOstatnia okazja aby napisać li
 st do Mikołaja. W Bajce spełnimy wasze imprezowe życzenia 😉\n\n⚡
 ⚡⚡⚡⚡\n\n🤩 Startujemy 22:00 ⏰\n🤩 Gramy na dwóch parkietach
 : DISCO &amp\; CUBANO\n🤩 Na sali 🇨🇺CUBANO🇨🇺 gramy rytmy ret
 ro i latino\n🤩 Wstęp 𝐅𝐑𝐄𝐄 dla osób z hasłem zniżkowym d
 o 22:30! Tajne hasło to: DARMOWY WSTĘP 🎫🎟\n🤩 Przez całą noc d
 rink wódka + sok jabłkowy za 12 zł 🍎🍹🍎🍹🍎\n\n⚡⚡⚡⚡
 ⚡\n\nW sali głównej króluje oczywiście najlepsza muzyka taneczna. Gr
 amy jak zawsze kawałki disco/ dance/ latino/ RnB/ rap/ polskie i światow
 e hity! 💃🕺\n\n⚡⚡⚡⚡⚡\n\n🔴 wstęp 18+\n🔴 bilet 20 PLN\
 n🔴 rezerwacje: 531 273 505\n🔴 ig: bajka_rzeszow
ATTACH;FMTTYPE=image/jpeg:https://night4u.pl/wp-content/uploads/2024/12/Li
 sty-do-M-x-Bajka-Rzeszow-21.12.jpg
CATEGORIES:podkarpackie
LOCATION:Ul. Piłsudskiego 34\, Rzeszów\, Ul. Piłsudskiego 34\, Rzeszów\
 , 
X-APPLE-STRUCTURED-LOCATION;VALUE=URI;X-ADDRESS=Ul. Piłsudskiego 34\, Rzes
 zów\, ;X-APPLE-RADIUS=100;X-TITLE=Ul. Piłsudskiego 34\, Rzeszów:geo:0,0
END:VEVENT
BEGIN:VTIMEZONE
TZID:Europe/Warsaw
X-LIC-LOCATION:Europe/Warsaw
BEGIN:STANDARD
DTSTART:20241027T020000
TZOFFSETFROM:+0200
TZOFFSETTO:+0100
TZNAME:CET
END:STANDARD
END:VTIMEZONE
END:VCALENDAR