BEGIN:VCALENDAR
VERSION:2.0
PRODID:-//wp-events-plugin.com//7.2.3.1//EN
TZID:Europe/Warsaw
X-WR-TIMEZONE:Europe/Warsaw
BEGIN:VEVENT
UID:34437@night4u.pl
DTSTART;TZID=Europe/Warsaw:20191107T190000
DTEND;TZID=Europe/Warsaw:20191107T210000
DTSTAMP:20191107T091431Z
URL:https://night4u.pl/wydarzenia/literufka-magdalena-bielska-slam-poetyck
 i/
SUMMARY:LiteruFKA // Magdalena Bielska // Slam poetycki
DESCRIPTION:Fundacja KulturAkcja i Klub Dragon zapraszają na cykl literack
 i LiteruFKA. Bez wykładu i bez wymądrzania się. Posłuchamy\, porozmawi
 amy i pokłócimy się o literaturę. Będziemy leżeć na ziemi\, siedzie
 ć po turecku i podpierać ściany. \n\nA po wszystkim\, zapraszamy do udz
 iału w slamie poetyckim! Do zobaczenia w Klubie Dragon.\nCykl jest wspó
 łfinansowany przez Miasto Poznań. \n#poznańwspiera\n_____________\n\nMa
 gdalena Bielska\, ur. w 1980\, wydała tomy wierszy: Brzydkie zwierzęta (
 2006)\, Wakacje\, widmo (2009)\, Czarna wyspa (2015) oraz powieść Miło
 ść w zimie (2013). Laureatka nagród im. Kazimiery Iłłakowiczówny ora
 z PTWK\, nominowana do nagrody Orfeusz. Jej wiersze tłumaczone były na a
 ngielski\, hiszpański i serbski. Mieszka w Krakowie.\n\nProwadzenie: Agni
 eszka Budnik\n\nKolejne zaplanowane terminy spotkań i slamów z tej serii
  to: 21.11.\, 05.12. i 19.12\n_____________\n\nSLAM \n! 10. Podczas turnie
 ju nie wolno korzystać z żadnych rekwizytów\, instrumentów muzycznych 
 oraz podkładu muzycznego. Wolno czytać teksty z kartek i urządzeń elek
 tronicznych.\n\nREGULAMIN\n1. Organizatorem turnieju jest Fundacja KulturA
 kcja.\n2. Zarówno udział w slamie\, jak i wstęp są bezpłatne.\n3. Zwy
 cięzca turnieju otrzyma nagrodę pieniężną 150 zł\, zaś za zajęcie 
 drugiego miejsca nagroda wyniesie 50 zł. Pieniądze zostaną przekazane w
  gotówce lub za pomocą przelewu bankowego w terminie do dwóch tygodni p
 o zakończeniu turnieju.\n4. Osoby chcące wystąpić w slamie dokonują z
 głoszenia drogą mailową na adres poznanskislam@gmail.com bądź bezpoś
 rednio u organizatorów w dniu slamu\, o ile lista nie będzie już zamkni
 ęta.\n5. Organizatorzy mają prawo zamknąć listę w dowolnym momencie.\
 n6. Uczestniczki i uczestnicy prezentują podczas występu wyłącznie wł
 asną twórczość.\n7. Pojedynczy występ slamera lub slamerki nie może 
 przekroczyć 3 minut\, a w przypadku dogrywki 1 minuty.\n8. Slam zostanie 
 rozegrany systemem pucharowym. Uczestniczki i uczestnicy pierwszej rundy z
 ostaną przeciwstawieni sobie poprzez losowanie. Osoba\, która wygra w da
 nej rozgrywce przejdzie do następnej rundy. Liczba rund będzie zależał
 a od liczby zgłoszeń. O zwycięstwie w danej rundzie decyduje publiczno
 ść poprzez głosowanie. Kto otrzyma większą liczbę głosów\, wygrywa
 . Przy nieparzystej liczbie uczestników prowadzący będzie modyfikował 
 zasady tak\, aby zachować równe szanse udziału w turnieju.\n9. Jeżeli 
 podczas pojedynku slamerów głosy publiczności rozłożą się po równo
 \, wówczas odbywa się dogrywka.\n10. Podczas turnieju nie wolno korzysta
 ć z żadnych rekwizytów\, instrumentów muzycznych oraz podkładu muzycz
 nego. Wolno czytać teksty z kartek i urządzeń elektronicznych.\n11. Org
 anizatorzy zastrzegają sobie prawo do wykorzystania dokumentacji występ
 ów (obejmującej wizerunek uczestników – udział w slamie oznacza zło
 żenie oświadczenia o wyrażeniu zgody na nieodpłatne i nieograniczone w
  czasie prawo do utrwalenia i rozpowszechniania przez Organizatorów wizer
 unku uczestnika) w celach promocyjnych i dokumentacyjnych.\n12. Kwestiami 
 nieuwzględnionymi w regulaminie oraz jego interpretacją zajmuje się oso
 ba prowadząca turniej.\n\nProwadzenie: Maciej Mikulewicz
ATTACH;FMTTYPE=image/jpeg:https://night4u.pl/wp-content/uploads/2019/11/88
 988_image_76204842_2924297750932289_1368257871904505856_o.jpg
CATEGORIES:wielkopolskie
LOCATION:Dragon Social Club\, ul.Zamkowa 3\, Poznan\, 61-768\, Poland
GEO:52.409327;16.932084
X-APPLE-STRUCTURED-LOCATION;VALUE=URI;X-ADDRESS=ul.Zamkowa 3\, Poznan\, 61-
 768\, Poland;X-APPLE-RADIUS=100;X-TITLE=Dragon Social Club:geo:52.409327,1
 6.932084
END:VEVENT
BEGIN:VTIMEZONE
TZID:Europe/Warsaw
X-LIC-LOCATION:Europe/Warsaw
BEGIN:STANDARD
DTSTART:20191027T020000
TZOFFSETFROM:+0200
TZOFFSETTO:+0100
TZNAME:CET
END:STANDARD
END:VTIMEZONE
END:VCALENDAR