BEGIN:VCALENDAR
VERSION:2.0
PRODID:-//wp-events-plugin.com//7.2.3.1//EN
TZID:Europe/Warsaw
X-WR-TIMEZONE:Europe/Warsaw
BEGIN:VEVENT
UID:26179@night4u.pl
DTSTART;TZID=Europe/Warsaw:20190907T210000
DTEND;TZID=Europe/Warsaw:20190908T040000
DTSTAMP:20190903T190428Z
URL:https://night4u.pl/wydarzenia/live-sax-act-party-x-club-nafta/
SUMMARY:Live Sax Act Party x Club Nafta
DESCRIPTION:Prosto z krakowskich klubów Baccarat\, Dreams Music czy Choice
  do Krosna zawita maestro saksofonu Michał Miq Matoga. Wspólnie z naszym
  DJ'em rozkręci mega imprezę\, jakiej w Krośnie dawno nie było... \n\n
 ??????\nMUSIC\nSax: Michał Miq Matoga\nDJ: rezydent Nafty\n\n??????\nPROM
 O BAR\nSax on the beach 12 PLN\n\n\n??????\nWJAZD\ndo 22:00 dziewczyny -> 
 10 zł\nnormalnie: 20 zł\nWiek: +21\n\n??????\nREZERWACJE LOŻY:\nTEL: 78
 5 930 565
ATTACH;FMTTYPE=image/jpeg:https://night4u.pl/wp-content/uploads/2019/09/61
 199_image_69463495_1549223368547903_1017232926401626112_o.jpg
CATEGORIES:podkarpackie
LOCATION:Club Nafta\, ul. Lwowska 21\, Krosno\, 38-440\, Poland
GEO:49.683733;21.772154
X-APPLE-STRUCTURED-LOCATION;VALUE=URI;X-ADDRESS=ul. Lwowska 21\, Krosno\, 3
 8-440\, Poland;X-APPLE-RADIUS=100;X-TITLE=Club Nafta:geo:49.683733,21.7721
 54
END:VEVENT
BEGIN:VTIMEZONE
TZID:Europe/Warsaw
X-LIC-LOCATION:Europe/Warsaw
BEGIN:DAYLIGHT
DTSTART:20190331T030000
TZOFFSETFROM:+0100
TZOFFSETTO:+0200
TZNAME:CEST
END:DAYLIGHT
END:VTIMEZONE
END:VCALENDAR