BEGIN:VCALENDAR
VERSION:2.0
PRODID:-//wp-events-plugin.com//7.2.3.1//EN
TZID:Europe/Warsaw
X-WR-TIMEZONE:Europe/Warsaw
BEGIN:VEVENT
UID:33173@night4u.pl
DTSTART;TZID=Europe/Warsaw:20191110T153000
DTEND;TZID=Europe/Warsaw:20191111T000000
DTSTAMP:20191110T192834Z
URL:https://night4u.pl/wydarzenia/lodz-disco-fest-2019/
SUMMARY:Łódź Disco Fest 2019
DESCRIPTION:To już VI edycja halowej imprezy dedykowanej muzyce disco polo
 ! \nNa Atlas Arenie wystąpią największe gwiazdy muzyki tanecznej! \n\nB
 ilety -&gt\;  https://www.ebilet.pl/muzyka/disco-polo/lodz-disco-fest/
ATTACH;FMTTYPE=image/jpeg:https://night4u.pl/wp-content/uploads/2019/10/81
 978_image_71375338_2536602986617243_2638523389186146304_n.jpg
CATEGORIES:łódzkie
LOCATION:Atlas Arena\, Bandurskiego 7\, Łódź\, 94-020\, Poland
GEO:51.756105;19.426274
X-APPLE-STRUCTURED-LOCATION;VALUE=URI;X-ADDRESS=Bandurskiego 7\, Łódź\, 
 94-020\, Poland;X-APPLE-RADIUS=100;X-TITLE=Atlas Arena:geo:51.756105,19.42
 6274
END:VEVENT
BEGIN:VTIMEZONE
TZID:Europe/Warsaw
X-LIC-LOCATION:Europe/Warsaw
BEGIN:STANDARD
DTSTART:20191027T020000
TZOFFSETFROM:+0200
TZOFFSETTO:+0100
TZNAME:CET
END:STANDARD
END:VTIMEZONE
END:VCALENDAR