BEGIN:VCALENDAR
VERSION:2.0
PRODID:-//wp-events-plugin.com//7.2.3.1//EN
TZID:Europe/Warsaw
X-WR-TIMEZONE:Europe/Warsaw
BEGIN:VEVENT
UID:33172@night4u.pl
DTSTART;TZID=Europe/Warsaw:20191115T200000
DTEND;TZID=Europe/Warsaw:20191115T233000
DTSTAMP:20191115T192833Z
URL:https://night4u.pl/wydarzenia/lodz-polska-noc-kabaretowa-2019/
SUMMARY:Łódź | Polska Noc Kabaretowa 2019
DESCRIPTION:15.11.2019 Łódź (godz. 20:00)\nAtlas Arena\, ul. Aleja Bandu
 rskiego 7\n🔵️ Informacje i bilety:\n✅ www.kabaretowebilety.pl \nhtt
 ps://kabaretowebilety.pl/lodz-polska-noc-kabaretowa-2019/wydarzenie/910\n\
 nPolska Noc Kabaretowa 2019 Humor świata\n\nZapraszamy w najśmieszniejsz
 ą podróż Waszego życia! Na niezwykłym pokładzie PNK2019 wyruszamy w 
 poszukiwaniu humoru świata. Niezastąpiony przewodnik – Kabaret Nowaki 
 zadba o to\, aby było różnorodnie\, dynamicznie i all inclusive. W drog
 ę zabiorą się z nami najodważniejsi odkrywcy humoru świata: Kabaret M
 oralnego Niepokoju\, Kabaret Skeczów Męczących\, Igor Kwiatkowski\, Kab
 aret Smile i Kabaret K2. Zajrzymy do najbardziej dzikich zakątków świat
 a\, nie ominiemy żadnej wyspy i szczytu w poszukiwaniu najśmieszniejszeg
 o żartu. Zadbamy o to\, aby nasza wspólna przygoda była pełna kolorów
 \, zaskakujących odkryć i śmiechu ponad wszelkimi granicami. Podróż z
 a jeden uśmiech\, Rejs i Boso przez świat mogą się schować! Nadciąga
  Polska Noc Kabaretowa 2019! Wskakujcie na pokład i ruszajcie z nami w po
 szukiwaniu humoru świata.
ATTACH;FMTTYPE=image/jpeg:https://night4u.pl/wp-content/uploads/2019/10/81
 975_image_53423814_2065783293470294_1174064172611141632_o.jpg
CATEGORIES:łódzkie
LOCATION:Atlas Arena\, Bandurskiego 7\, Łódź\, 94-020\, Poland
GEO:51.756105;19.426274
X-APPLE-STRUCTURED-LOCATION;VALUE=URI;X-ADDRESS=Bandurskiego 7\, Łódź\, 
 94-020\, Poland;X-APPLE-RADIUS=100;X-TITLE=Atlas Arena:geo:51.756105,19.42
 6274
END:VEVENT
BEGIN:VTIMEZONE
TZID:Europe/Warsaw
X-LIC-LOCATION:Europe/Warsaw
BEGIN:STANDARD
DTSTART:20191027T020000
TZOFFSETFROM:+0200
TZOFFSETTO:+0100
TZNAME:CET
END:STANDARD
END:VTIMEZONE
END:VCALENDAR