BEGIN:VCALENDAR
VERSION:2.0
PRODID:-//wp-events-plugin.com//7.2.3.1//EN
TZID:Europe/Warsaw
X-WR-TIMEZONE:Europe/Warsaw
BEGIN:VEVENT
UID:31587@night4u.pl
DTSTART;TZID=Europe/Warsaw:20191031T190000
DTEND;TZID=Europe/Warsaw:20191031T210000
DTSTAMP:20191031T054153Z
URL:https://night4u.pl/wydarzenia/lodz-w-trzech-osobach-rucinski-sliwinski
 -tremiszewski-4/
SUMMARY:ŁÓDŹ - W Trzech Osobach (Ruciński\, Śliwiński\, Tremiszewski)
DESCRIPTION:W Trzech Osobach do samego wejścia na scenę nie wiedzą\, co 
 na niej zrobią.\n\nWitają się z publicznością\, podpytują o to\, co 
 u nich\, chwilkę pogadają\, zbiorą kilka słów\, skojarzeń i sugestii
 . A potem przez półtorej godziny z przerwą improwizują. \n\nImprowizow
 ane spektakle grupy W Trzech Osobach sprawiają wrażenie\, że składają
  się z niezwiązanych ze sobą wątków/scen/skeczy/głupawek. A jednak z
  czasem ten misz masz okazuje się mieć jakieś połączenie\, we wszystk
 im o coś zaczyna chodzić\, szaleństwo zostaje doprowadzone do jasnej pu
 enty. Przeważnie:) A jeśli danego wieczoru króluje chaos\, to i tak jes
 t śmiesznie! \n\nIch nieokiełznana improwizacja odznacza się dzikim\, s
 zalonym tempem\, absurdem oraz bezkompromisowością formy i treści. A pr
 zede wszystkim dużym pokładem frywolnego śmiechu. Jazda bez trzymanki.\
 n\nKacper Ruciński\, Jakub Śliwiński i Wojciech Tremiszewski współtwo
 rzyli początki polskiej sceny impro w połowie zeszłej dekady. Improwizo
 wali i improwizują w grupach W Gorącej Wodzie Kompani\, Peleton\, Jachim
 ek-Tremszewski Trio i Dzikie Węże\, a także solowo. \n\nDo tego:\n\nRuc
 iński - stand up comedy\, telewizyjny program "Tylko dla dorosłych"\, Gr
 upa Trzymająca Mikrofon\, Bang!\, współautor scenariusza do filmu "Juli
 usz".\n\nŚliwiński - stand up comedy oraz koncertuje z looperem jako "D
 źwiękowa podróż przez bełkot mózgu"\n\nTremiszewski - aktor Kabaretu
  Limo i serialu "Spadkobiercy"\, aktor monodramów "Adama Mickiewicza liry
 czna próba odnalezienia się w branży rozrywkowej"\, "Pan Trener"\, "Opo
 wieść o brzydkich słowach".\n\nZapraszamy i miłej jazdy bez trzymanki!
 \n\nBILETY DOSTĘPNE:\nhttps://tiny.pl/tp2jn
ATTACH;FMTTYPE=image/jpeg:https://night4u.pl/wp-content/uploads/2019/10/73
 972_image_72051066_1519051664900962_936382043955134464_o.jpg
CATEGORIES:łódzkie
LOCATION:Scenografia\, Zachodnia 81/83\, Łódź\, 90-402\, Poland
GEO:51.774869;19.451955
X-APPLE-STRUCTURED-LOCATION;VALUE=URI;X-ADDRESS=Zachodnia 81/83\, Łódź\,
  90-402\, Poland;X-APPLE-RADIUS=100;X-TITLE=Scenografia:geo:51.774869,19.4
 51955
END:VEVENT
BEGIN:VTIMEZONE
TZID:Europe/Warsaw
X-LIC-LOCATION:Europe/Warsaw
BEGIN:STANDARD
DTSTART:20191027T020000
TZOFFSETFROM:+0200
TZOFFSETTO:+0100
TZNAME:CET
END:STANDARD
END:VTIMEZONE
END:VCALENDAR