BEGIN:VCALENDAR
VERSION:2.0
PRODID:-//wp-events-plugin.com//7.2.3.1//EN
TZID:Europe/Warsaw
X-WR-TIMEZONE:Europe/Warsaw
BEGIN:VEVENT
UID:34999@night4u.pl
DTSTART;TZID=Europe/Warsaw:20191207T220000
DTEND;TZID=Europe/Warsaw:20191208T070000
DTSTAMP:20191208T054136Z
URL:https://night4u.pl/wydarzenia/lodzka-transmisja-hidden-event-zone-7-gr
 udzien-2019/
SUMMARY:ŁÓDZKA TRANSMISJA \, Hidden Event Zone\, 7 grudzień 2019
DESCRIPTION:ૐ ૐ ૐ\n\n\n☄☄☄ HALO HALO ☄☄☄ \n\nTu Łódzka 
 Transmisja !\n \nPo krótkiej przerwie znów słychać nas w eterze . \nDo
 strójcie więc wszystkie zmysły !\n\nJeśli nie wiesz już wkrótce się
  dowiesz \, a właściwie już wszystko jest jasne !\n\nGrupa psytransowyc
 h przyjaciół odpowiedzialnych za jedne z najbardziej kolorowych polskich
  imprez \, zapraszają Was na kolejną odsłonę Łódzkiej Transmisji . \
 nTym razem wsiadamy do kolorowego wozu transmisyjnego i wędrujemy w niezn
 ane !\;) \nRęce i wszelkie inicjatywy poszły w ruch !:) Zaprosiliśmy ś
 wietnych grajków \,którzy potrafią zmiksować to co w muzyce psytrance 
 najlepsze ! Dołożyliśmy starań aby ta edycja była jeszcze piękniejsz
 a od poprzedniej:)\nNa miejscu czekać będzie na Was wspaniale udekorowan
 a przestrzeń\,miejsce wypoczynku\, magiczne wizualizacje\, chaishop z z w
 egetariańskimi smakołykami\, stoisko Safe Rave\, a także wszakże jakż
 e ...\nStrefa fashion:) w której znajdziecie koszulki UV i nie tylko ! \n
 Atrakcji jak zawsze będzie nie lada jednak reszta niech\npozostanie póki
  co małą tajemnicą\;)\n\nŚledźcie uważnie nasze wydarzenie:)\n\nSpod
 ziewajcie się niespodziewanego\;)\n\n\n\n★★★★★★★★★★
 ★★----------------------------★★★★★★★★★★★★★\
 n\n\n\nNa imprezie zagrają zaś : \n\n\n♫  ◀◀ P░S░Y░T░R░A
 ░N░C░E\n      M░A░I░N ░S░T░A░G░E  ▶▶ ♫\n\n\n
 ✰ SETHI ( Rave ON Trans ) Białystok\n✰ PIXIE ELF ( Prywatka Pana Hofm
 anna ) Wrocław\n✰ EPIX ( Pulsar TranceFormation ) Ziemia\n✰ YABOL FIB
 ONACCI Łódź\n✰ BERTEK ( DuBoat ) Łódź\n✰ GREEN ANEMO ( Psycho In
 finity ) Turek\n\n\n┅ U░V░ D░E░C░O ┅\n\n✶PSZCZOŁA UV\n✶
 PSYCHO INFINITY\n✶PULSAR TRANCE FORMATION\n\n\n\n-E░X ░T ░R ░A
 ░ S-\n\nVisual\, Chaishop Pulsar Space'Bar\, Body Painting\nSafe Rave St
 age\, MISTYK Zone i jeszcze trochę :)\n\n\n\n\nZOSTAŃ FANEM - \nBądź n
 a bieżąco z newsami oraz konkursami \nhttps://www.facebook.com/LodzkaTra
 nsmisja/\n\n\nNasi wspaniali patroni  (✿◠‿◠)\n\nBroken Mindz \nhtt
 ps://www.facebook.com/BrokenMindzzz\n\nAudycja Apteka\nhttps://www.faceboo
 k.com/aptekafm/\n\n\n\nHidden Event Zone\nPlac Komuny Paryskiej 6\n\n\n7 g
 rudzień 2019 \nStart : 22\,oo\nWjazd : 25pln\n\n\nDo zobaczenia na miejsc
 u !:)\n\n\n---------------------------------------------------------------
 ---------------
ATTACH;FMTTYPE=image/jpeg:https://night4u.pl/wp-content/uploads/2019/11/91
 888_image_75464248_157070089000991_7566170102672916480_o.jpg
CATEGORIES:łódzkie
LOCATION:Hidden Event Zone\, pl. Komuny Paryskiej 6\, Łódź\, 90-007\, Po
 land
GEO:51.765228;19.45959
X-APPLE-STRUCTURED-LOCATION;VALUE=URI;X-ADDRESS=pl. Komuny Paryskiej 6\, Ł
 ódź\, 90-007\, Poland;X-APPLE-RADIUS=100;X-TITLE=Hidden Event Zone:geo:5
 1.765228,19.45959
END:VEVENT
BEGIN:VTIMEZONE
TZID:Europe/Warsaw
X-LIC-LOCATION:Europe/Warsaw
BEGIN:STANDARD
DTSTART:20191027T020000
TZOFFSETFROM:+0200
TZOFFSETTO:+0100
TZNAME:CET
END:STANDARD
END:VTIMEZONE
END:VCALENDAR