BEGIN:VCALENDAR
VERSION:2.0
PRODID:-//wp-events-plugin.com//7.2.3.1//EN
TZID:Europe/Warsaw
X-WR-TIMEZONE:Europe/Warsaw
BEGIN:VEVENT
UID:38344@night4u.pl
DTSTART;TZID=Europe/Warsaw:20191206T220000
DTEND;TZID=Europe/Warsaw:20191207T060000
DTSTAMP:20200401T082120Z
URL:https://night4u.pl/wydarzenia/lollipop-party-by-dj-matrix/
SUMMARY:Mikołajki /Lollipop Party by dj.Matrix
DESCRIPTION:INFORMACJE:\n\n📅 06.12- Będzie słodko i seksownie. \nLizak
 i dla każdego \, Muzyka klubowa -  dj.Matrix  \nNa małej sali - karaoke 
 i najlepsze popowe hity - dj.Gabi \n======================================
 ==========\n🕘 Start: 22:00\n🔞 Selekcja: +18\n🎫 Wstęp: wolny\n===
 ===========================================\nPROMOCJE NA BARZE :\n do godz
 : 24:00\n- Whisky William Peel + pepsi - 10zł \n- piwo lane - 0\,5 l - 7 
 zł \n- szoty 0\,4 - 7 zł \n- drinki z wódek podstawowych 8 zł \n======
 ============================================\nINSTAGRAM \n\nwww.instagram.
 com/narraganset129/
ATTACH;FMTTYPE=image/jpeg:https://night4u.pl/wp-content/uploads/2019/12/10
 9647_image_78630622_10158455324437908_1794915452028190720_n.jpg
CATEGORIES:łódzkie
LOCATION:NARRAGANSET\, Gdańska 129\, Łódź\, 90-519\, Poland
GEO:51.759549;19.450388
X-APPLE-STRUCTURED-LOCATION;VALUE=URI;X-ADDRESS=Gdańska 129\, Łódź\, 90
 -519\, Poland;X-APPLE-RADIUS=100;X-TITLE=NARRAGANSET:geo:51.759549,19.4503
 88
END:VEVENT
BEGIN:VTIMEZONE
TZID:Europe/Warsaw
X-LIC-LOCATION:Europe/Warsaw
BEGIN:STANDARD
DTSTART:20191027T020000
TZOFFSETFROM:+0200
TZOFFSETTO:+0100
TZNAME:CET
END:STANDARD
END:VTIMEZONE
END:VCALENDAR