BEGIN:VCALENDAR
VERSION:2.0
PRODID:-//wp-events-plugin.com//7.2.3.1//EN
TZID:Europe/Warsaw
X-WR-TIMEZONE:Europe/Warsaw
BEGIN:VEVENT
UID:6649@night4u.pl
DTSTART;TZID=Europe/Warsaw:20190215T193000
DTEND;TZID=Europe/Warsaw:20190215T193000
DTSTAMP:20190207T103435Z
URL:https://night4u.pl/wydarzenia/lomot-pfb-6-15-02-amore-del-tropico/
SUMMARY:Łomot PFB #6 - 15.02 - Amore Del Tropico
DESCRIPTION:Uwaga! Nadciąga freestyle'owe uderzenie!\nŁOMOT Positive Free
 style Battle\n\nWidzimy się 15go lutego\, dzień po Walentynkach aby rozs
 ądzić kto zostanie nowym mistrzem już szóstej edycji Łomotu.\n\nMoże
  to będziesz Ty?\nZapisujcie się chętnie!\n\n\nCi co znają nasze wcze
 śniejsze Łomoty wiedzą\, co stanowi o niezwykłości naszej bitwy: zaws
 ze niestandardowe konkurencje ciekawe tematy\, nacisk na dobre skille\, do
 bra zabawa i niepowtarzalna pozytywna atmosfera! \nZawodnicy muszą sprost
 ać takim wyzwaniom jak wymiana co 4 wersy\, freestyle z podskakiwaniem cz
 y opiewanie zalet przeciwnika  z możliwym autodissem.\n\n★★ ZAWODNICY
  #ŁOMOT PFB 6 ★★\n\n- Niulek\n- Fabish\n- Wiktorcki\n- Lajon\n- Bubon
 \n- kiemL\n- Quesh\n- Dziadek Mróz\n- Dosu\n- Jaskier\n- Lordur\n- Young 
 Stary\n- Rutencjusz\n\nW jury zasiądzie:\n- Śruba WartoByćCzłowiekiem\
 n- Bruki \n- Wieńczysław Nieszczególny\n- Bohun\n\nPoprowadzi bitwę:\n
 - flo.Faya.man\n\nWjazd: co łaska\n\nNagrody? Jasne\, że tak!\n\n- Za 1\
 , 2 i 3 miejsce - Fajowo.eu\n- Koszuleczki i kubeczki #ŁOMOT - Kobra - ga
 dżety reklamowe\n- Nagroda niespodzianka- Amore del Tropico
ATTACH;FMTTYPE=image/jpeg:https://night4u.pl/wp-content/uploads/2019/02/19
 515_image_51308582_316081372374038_5364222872040505344_n.jpg
CATEGORIES:wielkopolskie
LOCATION:Amore del Tropico\, Ratajczaka 26/2\, Poznan\, 61-815\, Poland
GEO:52.405425;16.925737
X-APPLE-STRUCTURED-LOCATION;VALUE=URI;X-ADDRESS=Ratajczaka 26/2\, Poznan\, 
 61-815\, Poland;X-APPLE-RADIUS=100;X-TITLE=Amore del Tropico:geo:52.405425
 ,16.925737
END:VEVENT
BEGIN:VTIMEZONE
TZID:Europe/Warsaw
X-LIC-LOCATION:Europe/Warsaw
BEGIN:STANDARD
DTSTART:20181028T020000
TZOFFSETFROM:+0200
TZOFFSETTO:+0100
TZNAME:CET
END:STANDARD
END:VTIMEZONE
END:VCALENDAR