BEGIN:VCALENDAR
VERSION:2.0
PRODID:-//wp-events-plugin.com//7.2.3.1//EN
TZID:Europe/Warsaw
X-WR-TIMEZONE:Europe/Warsaw
BEGIN:VEVENT
UID:3419@night4u.pl
DTSTART;TZID=Europe/Warsaw:20190302T200000
DTEND;TZID=Europe/Warsaw:20190303T040000
DTSTAMP:20190414T211529Z
URL:https://night4u.pl/wydarzenia/loona-warszawa/
SUMMARY:Loona | Warszawa
DESCRIPTION:W ostatnią sobotę karnawału\, czyli 2. marca w Hulakula wyst
 ąpi holenderska piosenkarka Loona! Szykuje się kolejny\, szalony powrót
  do przeszłości w rytmie takich przebojów jak "Bailando" czy "Vamos A L
 a Playa". To jak\, widzimy się w karnawale?\n\n? "Bailando" \n? "Vamos A 
 La Playa" \n__________________\nInformacje organizacyjne:\nData: 2/3//2019
 \nStart imprezy: 20:00 (dj support)\nGwiazda wieczoru: 23:30\nWstęp 18+\n
 Bilety: 30 zł\nDarmowy wstęp: \n- posiadacze kart VIP Cashback Hulakula\
 ,\n- osoby obchodzące w tym dniu urodziny lub imieniny.\n\nRezerwacja sto
 lików i pakietów imprezowych możliwa z 14-dniowym wyprzedzeniem na http
 s://rezerwacje.hulakula.com.pl/\n\n\n\nW celu zapewnienia gościom klubu b
 ezpieczeństwa oraz komfortu zabawy w lokalu obowiązuje selekcja\, która
  dotyczy to również osób umieszczonych na listach gości\, posiadający
 ch ogólnodostępne zaproszenia lub wcześniejszą rezerwację loży w klu
 bie\, wykupiony bilet lub kartę VIP Cashback Hulakula.
ATTACH;FMTTYPE=image/jpeg:https://night4u.pl/wp-content/uploads/2019/01/10
 951_image_48186179_10157947316184128_4315450957107298304_o.jpg
CATEGORIES:mazowieckie
LOCATION:Hulakula Rozrywkowe Centrum Miasta\, ul. Jagiellońska 82b\, Warsa
 w\, 03-301\, Poland
GEO:52.273342;21.017125
X-APPLE-STRUCTURED-LOCATION;VALUE=URI;X-ADDRESS=ul. Jagiellońska 82b\, War
 saw\, 03-301\, Poland;X-APPLE-RADIUS=100;X-TITLE=Hulakula Rozrywkowe Centr
 um Miasta:geo:52.273342,21.017125
END:VEVENT
BEGIN:VTIMEZONE
TZID:Europe/Warsaw
X-LIC-LOCATION:Europe/Warsaw
BEGIN:STANDARD
DTSTART:20181028T020000
TZOFFSETFROM:+0200
TZOFFSETTO:+0100
TZNAME:CET
END:STANDARD
END:VTIMEZONE
END:VCALENDAR