BEGIN:VCALENDAR
VERSION:2.0
PRODID:-//wp-events-plugin.com//7.2.3.1//EN
TZID:Europe/Warsaw
X-WR-TIMEZONE:Europe/Warsaw
BEGIN:VEVENT
UID:16853@night4u.pl
DTSTART;TZID=Europe/Warsaw:20190531T220000
DTEND;TZID=Europe/Warsaw:20190601T050000
DTSTAMP:20190522T094325Z
URL:https://night4u.pl/wydarzenia/losowy-serial-o-duzej-popularnosci-party
 -2/
SUMMARY:losowy serial o dużej popularności party
DESCRIPTION:serwus\,\n\nzapraszamy mieszkańców Poznania do czekolady by w
 ziąć udział w zabawowej imprezie o roboczym tytule: „nazwa losowego s
 erialu o w miarę dużej popularności\, by przyciągnąć jak najwięcej 
 ludzi co klikają gdy w tytule jest jakikolwiek znana nazwa party”.\n\nn
 a evencie obowiązuję kilka zasad:\n\n- pierwsza zasada klubu czekolada -
  nie rozmawiamy o tym\, że fight klub to najlepszy film w historii kina\,
  bo to nieprawda\n-  jeśli w którymś momencie impreza wam się nie spod
 oba\, to cholernie pewnie\, że nie zasługujecie na nią kiedy będzie na
 jlepsza\n- za okazaniem legitymacji studenckiej otrzymacie żeton\, który
  możecie wykorzystać w dowolnej budce telefonicznej\n- wjazd za friko na
  listę głównego urzędu statystycznego (lista nie jest zamykana w ogól
 e dla nikogo)\, żeby się na nią wpisać udajcie się do najbliższej pl
 acówki urzędu miasta\n\nlosowa muzyczka: \nrap/indie rock/dream pop/retr
 o/synthwave/80s/90s/00s/themes from tv series/africa by toto/ rap\n\n***\n
 \nStart: 22.00\n\nkarty klubowe wejście FREE\,\npaszport Polsatu wejście
  20 PLN\nlista FB do 23.00 wejście FREE*\nwejście po 23.00 - 20 PLN\nwst
 ęp od 18 lat\nselekcja (w tych butach nie wejdziesz)\n*wejście do klubu 
 na listę fb jest jednorazowe w ciągu danej imprezy\, ponowny wstęp wią
 że się z opłatą za wejście (nie ma picia po bramach)\, listę zamykam
 y o 21
ATTACH;FMTTYPE=image/jpeg:https://night4u.pl/wp-content/uploads/2019/05/41
 302_image_60789139_1213579342149992_8100220028613296128_n.jpg
CATEGORIES:wielkopolskie
LOCATION:Klub Czekolada Poznań\, Poznan\, Poland
GEO:52.40609;16.93264
X-APPLE-STRUCTURED-LOCATION;VALUE=URI;X-ADDRESS=Poznan\, Poland;X-APPLE-RAD
 IUS=100;X-TITLE=Klub Czekolada Poznań:geo:52.40609,16.93264
END:VEVENT
BEGIN:VTIMEZONE
TZID:Europe/Warsaw
X-LIC-LOCATION:Europe/Warsaw
BEGIN:DAYLIGHT
DTSTART:20190331T030000
TZOFFSETFROM:+0100
TZOFFSETTO:+0200
TZNAME:CEST
END:DAYLIGHT
END:VTIMEZONE
END:VCALENDAR