BEGIN:VCALENDAR
VERSION:2.0
PRODID:-//wp-events-plugin.com//7.2.3.1//EN
TZID:Europe/Warsaw
X-WR-TIMEZONE:Europe/Warsaw
BEGIN:VEVENT
UID:47765@night4u.pl
DTSTART;TZID=Europe/Warsaw:20211009T230000
DTEND;TZID=Europe/Warsaw:20211010T050000
DTSTAMP:20210908T144731Z
URL:https://night4u.pl/wydarzenia/lost-sound-thomas-schumacher-drumcode-be
 rlin-4/
SUMMARY:Lost Sound: Thomas Schumacher [drumcode/berlin]
DESCRIPTION:- MAIN:\n\nThomas Schumacher [drumcode/berlin]\nPekin [lost sou
 nd/kwidzyn]\nMarks [nms/dublin]\nGreg Oleksevic [nms/dublin]\n\n - FONTANN
 A \n\nANE [xlnt/świecie]\nPete Wilder [lost sound/tuchola]\nMajakov [elec
 tronic revolution/malbork]\n\nSTART - 23:00 \n\nWSTĘP: 35 PLN - przedsprz
 edaż\nbilety dostępne będą również w dniu imprezy w kasie klubu.\n\n
 https://www.biletomat.pl/muzyka-klubowa/lost-sound-thomas-schumacher-9225/
 \n\nhttps://www.biletomat.pl/bilety-kolekcjonerskie-341/\n\nTERMIN – 09.
 10.2021\n\nPo dwóch latach od premiery\, z niepożądaną globalną przer
 wą rok temu\, do świątyni wraca projekt Lost Sound. Zarówno my\, jak i
  nasz headliner dotrzymujemy słowa. Wracamy razem z Thomasem Schumacherem
  – postacią\, której nikomu chociażby odrobinę obytemu w świecie te
 chno nie trzeba przedstawiać (ale przypomnieć warto – poniżej).\n\n\n
 Tymczasem w największym skrócie przypominamy\, o co w tym całym „Lost
  Sound” się rozchodzi. Listopad 2019 roku – nasz projekt debiutuje w 
 Sfinks700. Grają m.in. Spektre (Drumcode/UK) i OC &amp\; Verde (Truesoul/
 UK). Czy to debiut udany? Nie nam oceniać. Wyznacznikiem niech będzie ws
 pomnienie wibrującego\, pełnego ludzi\, klubu zarówno przed sceną gł
 ówną\, jak i na fontannie. Do godzin porannych. \nÓwczesna premiera „
 Lost Sound” w Sopocie nie oznacza\, że osoby stojące za projektem to 
 żółtodzioby. Wręcz przeciwnie! Początków działalności naszej grupy
  należy szukać w kalendarzach nawet sprzed 15 lat. Przez ten czas jej cz
 łonkowie\, wspólnie lub indywidualnie\, stali za organizacją różnego 
 rodzaju eventów w klubach i pod gołym niebem. Współzałożyciel\, nieo
 ficjalny lider ekipy to Pekin (Jacek Rudnicki)\, który w swoim dorobku ma
  klubowe występy w każdym zakątku kraju i festiwalowe sety (Mayday\, Na
 ture One itd.). W zeszłym roku stawiał na nogi nieśmiertelnych bywalcó
 w Audiopola\, które towarzyszy festiwalowi Audioriver. Zapamiętało go w
  roku 2019 m.in. warszawskie Luzztro.\n\nSekret „Lost Sound”? Szczero
 ść w przekazie oparta o wieloletnie przyjaźnie wszystkich zaangażowany
 ch osób\, miłość do techno i szerokopojętej muzyki elektronicznej\, n
 aturalna i głęboko zakorzeniona potrzeba dzielenia się tym uczuciem z i
 nnymi. \n\nThomas Schumacher\n\nWyznawcom kultury techno to nazwisko nie p
 owinno być obce. A jeśli jest inaczej\, warto tę stratę nadrobić – 
 np. sięgając po bogatą dyskografię wyżej wymienionego\, ale najlepiej
  pojawiając się w Sfinks700. Od momentu\, w którym kultowy „When I Ro
 ck” ujrzał światło dzienne\, minęło ponad 20 lat. Zwłaszcza doświ
 adczonym słuchaczom ta bezkompromisowa w brzmieniu kompozycja prawdopodob
 nie zawsze będzie kojarzyć się z Thomasem. Jednak zdecydowanie większ
 ą przyjemnością jest sprawdzian\, jak ten artysta rozwijał się przez 
 kolejne dwie dekady. Najciekawszym doświadczeniem jest osobisty test spra
 wdzający\, w jakie miejsce Schumacher dotarł teraz.\n\nNajpierw był... 
 „Construction Time Again” Depeche Mode – album\, który wywarł na n
 im ogromne wrażenie\, gdy miał zaledwie 11 lat. Nie każdy 11-latek prze
 siadywał długie godziny ze słuchawkami na uszach zastanawiając się\, 
 w jaki sposób muzycy wydobywali\, nie tylko z instrumentów\, dźwięki t
 akie\,  jak na CTA. Ciekawość\, a wręcz muzyczna dociekliwość\, stał
 a się jego cechą charakterystyczną. \n\nEfekty tej dociekliwości mogli
 śmy poznać dzięki 4 płytom długogrającym\, ponad 50 singlom i EP-kom
 \, także dzięki okazałej liczbie remiksów - wydawanych regularnie\, al
 e – co akurat regułą nie jest – nie z nadmierną częstotliwością.
  Drogą do prezentowania muzycznemu światu oryginalnych pomysłów było 
 uruchomienie swoich wytwórni: Spiel-Zeug Schallplatten i Electric Ballroo
 m. Ta druga nazwa przywołuje więcej skojarzeń. Dokładnie tak nazywał 
 się pierwszy album Schumachera\, wydany w 1998 roku na legendarnym labelu
  „Bush”. Słychać na nim m.in. sample z pewnego przeboju Michaela Jac
 ksona...\n\nTo także na Electric Ballroom w 2018 roku ukazały się efekt
 y wspólnej pracy z Victorem Ruizem (ich „Apollo II” dotarło do pierw
 szego miejsca techno-chartu na Beatport). Nie mniejszy sukces osiągnęła
 \, dedykowana córce\, „Stella”\, która pojawiła się rok wcześniej
  w katalogu uznanej wytwórni Noir Music\, czyli w kolejnym miejscu\, któ
 re stało się muzycznym domem Thomasa.\n\nRok 2020 i 2021. Schumacher do
 łączył do rodziny Drumcode. Efekty oficjalnie poznaliśmy w styczniu 20
 20 dzięki EP-ce „Crimson”. I zarówno fani klasycznego brzmienia arty
 sty (acid? pełno tu go)\, jak i charakteru Drumcode mogą być szczerze u
 kontentowani. Dalsze miesiące\, jak doskonale pamiętamy\, zostały storp
 edowane przez pandemię w skali całego świata\, nie tylko muzycznego. Th
 omas poświęcił czas na produkcję i rozwijanie swojego labelu Electric 
 Ballroom. Dzięki temu do dyspozycji mamy szereg EP-ek (solo w i kooperacj
 ach)\, które pokazują\, jak nadal płodny to artysta.\n\n„Techno to ni
 e tylko narzędzie wprawiające ludzi w taniec. To bardzo osobisty\, wręc
 z intymny sposób na wyrażenie siebie”- m.in. w taki sposób Thomas tł
 umaczy swoją muzyczną filozofię. Ten sposób poznajemy nie tylko dzięk
 i efektom pracy w studiu\, ale jednocześnie poprzez DJ-skie sety\, który
 ch nie można najzwyczajniej w świecie zapomnieć\, gdy „closing track
 ” wieńczy koniec występu. Jako DJ sam porównuje siebie do... kapitana
  statku. „I celowo kieruje ten statek i jego pasażerów na wzburzone wo
 dy. Tworzę jednak bezpieczną przestrzeń\, by ludzie mogli zatracić zmy
 sły w najlepszy możliwy sposób. Wiedzą\, że nie muszą się niczego o
 bawiać\, bo są w moich rękach. Ja wiem co robię\, oni mogą odpłyną
 ć”.\n\n\nLinki \n\nhttps://www.facebook.com/ThomasSchumacherOfficial\nh
 ttp://blog.thomasschumacher.com\nhttps://soundcloud.com/thomas-schumacher\
 nhttps://www.instagram.com/djthomasschumacher\nhttps://twitter.com/ThomsSc
 humacher\n\n\n• Info:\n☞ http://sfinks700.com/\n\nWstęp od 21 lat\n*z
  wyłączeniem studentów\n** liczba miejsc w lokalu bardzo ograniczona\n(
 zgodnie z obecnymi zaleceniami: 150 osób. Do limitów nie wlicza się os
 ób zaszczepionych przeciwko Covid-19).\n*** Organizator zastrzega sobie p
 rawo do nie wpuszczenia wskazanych osób bez podania przyczyny.\n\nS.F.I.N
 .K.S. 700\nAleja Franciszka Mamuszki 1\n81-718 Sopot
ATTACH;FMTTYPE=image/jpeg:https://night4u.pl/wp-content/uploads/2021/04/16
 0565_image_142655104_5719830508042534_4372321684433883706_n.jpg
CATEGORIES:pomorskie
LOCATION:Sfinks700\, Mamuszki 1\, Sopot\, 81-718\, Poland
GEO:54.448468;18.567313
X-APPLE-STRUCTURED-LOCATION;VALUE=URI;X-ADDRESS=Mamuszki 1\, Sopot\, 81-718
 \, Poland;X-APPLE-RADIUS=100;X-TITLE=Sfinks700:geo:54.448468,18.567313
END:VEVENT
BEGIN:VTIMEZONE
TZID:Europe/Warsaw
X-LIC-LOCATION:Europe/Warsaw
BEGIN:DAYLIGHT
DTSTART:20210328T030000
TZOFFSETFROM:+0100
TZOFFSETTO:+0200
TZNAME:CEST
END:DAYLIGHT
END:VTIMEZONE
END:VCALENDAR