BEGIN:VCALENDAR
VERSION:2.0
PRODID:-//wp-events-plugin.com//7.2.3.1//EN
TZID:Europe/Warsaw
X-WR-TIMEZONE:Europe/Warsaw
BEGIN:VEVENT
UID:42550@night4u.pl
DTSTART;TZID=Europe/Warsaw:20200109T190000
DTEND;TZID=Europe/Warsaw:20200109T220000
DTSTAMP:20200109T173732Z
URL:https://night4u.pl/wydarzenia/lotek-kacper-rucinski-rafal-paczes-testy
 -bang2-warszawa/
SUMMARY:Lotek\, Kacper Ruciński\, Rafał Pacześ - TESTY Bang2! - Warszawa
DESCRIPTION:Lotek\, Pacześ i Kacper testują materiał do przyszłorocznej
  trasy Bang2!  Materiał pojawi się na największych salach w 2020.
ATTACH;FMTTYPE=image/jpeg:https://night4u.pl/wp-content/uploads/2020/01/13
 4350_image_82269644_853341845125289_2747645133649346560_n.jpg
CATEGORIES:mazowieckie
LOCATION:Klub Hydrozagadka\, 11 listopada 22\, 03-436 Warszawa\, Poland\, P
 raga\, 03-436\, Poland
GEO:52.259283;21.036925
X-APPLE-STRUCTURED-LOCATION;VALUE=URI;X-ADDRESS=11 listopada 22\, 03-436 Wa
 rszawa\, Poland\, Praga\, 03-436\, Poland;X-APPLE-RADIUS=100;X-TITLE=Klub 
 Hydrozagadka:geo:52.259283,21.036925
END:VEVENT
BEGIN:VTIMEZONE
TZID:Europe/Warsaw
X-LIC-LOCATION:Europe/Warsaw
BEGIN:STANDARD
DTSTART:20191027T020000
TZOFFSETFROM:+0200
TZOFFSETTO:+0100
TZNAME:CET
END:STANDARD
END:VTIMEZONE
END:VCALENDAR