BEGIN:VCALENDAR
VERSION:2.0
PRODID:-//wp-events-plugin.com//7.2.3.1//EN
TZID:Europe/Warsaw
X-WR-TIMEZONE:Europe/Warsaw
BEGIN:VEVENT
UID:37223@night4u.pl
DTSTART;TZID=Europe/Warsaw:20191205T210000
DTEND;TZID=Europe/Warsaw:20191206T000000
DTSTAMP:20200401T082030Z
URL:https://night4u.pl/wydarzenia/lotto-1988-syny-w-uczuleniu/
SUMMARY:LOTTO + 1988 (Syny) w Uczuleniu
DESCRIPTION:LOTTO i 1988 na wspólnej trasie!\n\nLOTTO - Zespół założon
 y pod koniec 2012 roku\, skupiający trzy kreatywne umysły. Ich minimalis
 tyczny styl o niejednoznacznej formie\, opiera się o szereg inspiracji w
 śród których znajdziemy m.in: elementy awangardowego jazzu\, rocka\, no
 ise'u czy dronu. Znani z wydawnictw w takich labelach jak Lado ABC czy Ins
 tant Classic\, wracają z nowym materiałem. Epka PIX ukazuje inne oblicze
  zespołu\, stworzona przy pomocy strzępków wcześniejszych nagrań i in
 strumentów elektronicznych. Nie została zarejestrowana podczas sesji na 
 żywo\, tak jak to było do tej pory.\n\nhttps://lottoband.bandcamp.com/re
 leases\n\n1988 (Przemysław Jankowiak) \nPochodzący ze Szczecina\, mieszk
 ający obecnie w Gdyni producent\, kompozytor\, muzyk. Współtwórca duet
 u Syny\, z którym wydał dwie płyty „Orient” oraz „Sen”. Autor s
 olowej płyty „Gruda”. Pracował z wieloma czołowymi postaciami polsk
 iej sceny hiphopowej oraz niezależnej\, z jego produkcji korzystali m.in.
  Lotto\, Pezet\, Rosalie.\, Włodi\, Jetlagz\, czy Kristen. Primeshit Qual
 ity.\n\nhttp://soundcloud.com/1988synu\n\nwstęp: 25 PLN w przedsprzedaży
  / 30 PLN w dniu koncertu\ngo out: https://goout.net/pl/bilety/lotto+1988/
 hqqf/?fbclid=IwAR0rAX6aAPzyMuyfU2XVRq481kmCt_Cvq1QdODJhf4fEyTgrYVMtL1_MP7o
ATTACH;FMTTYPE=image/jpeg:https://night4u.pl/wp-content/uploads/2019/11/10
 2610_image_76956971_815501815547515_7038641788218769408_o.jpg
CATEGORIES:dolnośląskie
LOCATION:Czuła jest noc\, ulica Kolejowa 8\, Wroclaw\, 53-508\, Poland
GEO:51.10137;17.0232
X-APPLE-STRUCTURED-LOCATION;VALUE=URI;X-ADDRESS=ulica Kolejowa 8\, Wroclaw\
 , 53-508\, Poland;X-APPLE-RADIUS=100;X-TITLE=Czuła jest noc:geo:51.10137,
 17.0232
END:VEVENT
BEGIN:VTIMEZONE
TZID:Europe/Warsaw
X-LIC-LOCATION:Europe/Warsaw
BEGIN:STANDARD
DTSTART:20191027T020000
TZOFFSETFROM:+0200
TZOFFSETTO:+0100
TZNAME:CET
END:STANDARD
END:VTIMEZONE
END:VCALENDAR