BEGIN:VCALENDAR
VERSION:2.0
PRODID:-//wp-events-plugin.com//7.2.3.1//EN
TZID:Europe/Warsaw
X-WR-TIMEZONE:Europe/Warsaw
BEGIN:VEVENT
UID:6076@night4u.pl
DTSTART;TZID=Europe/Warsaw:20190215T220000
DTEND;TZID=Europe/Warsaw:20190216T220000
DTSTAMP:20190201T053548Z
URL:https://night4u.pl/wydarzenia/love-is-in-the-air-plener-party/
SUMMARY:Love Is In The Air // Plener Party
DESCRIPTION:Polska zima trwa w najlepsze\, a my nie możemy doczekać się 
 wiosennych roztopów\, lata i całonocnych harców w podwórku P29.\n\nW p
 ołowie lutego zapraszamy Was w związku z tym na dwudniowy\, plenerowy fa
 lstart! Zbierzemy się pod namiotami\, które wypełnią studnię kamienic
 zną przy naszym przybytku. Ramię przy ramieniu dla większego ciepełka!
 \n\nImprezie przez cały weekend będzie towarzyszyć bar plenerowy\, drin
 y na ciepło\, grzańce oraz oczywiście muzyka.\n\n\n\nMuzyka - znowu zap
 rosiliśmy do siebie wyjątkowych gości z poza łódzkiego grodu oraz lok
 alnych dj's. Zapraszamy po odrobinę lata! \nTańczymy w kurtkach\, a moż
 e i bez \;)!\n\nPIĄTEK 15.02:\nKovvalsky [ WWA / Jasna 1 ]\nDj Late\nBlum
 ental\nBette Davis Eyes\nJan Mohsen\n\nSOBOTA 16.02:\nKixnare [ KRK ]\nsch
 eda\nKido\n\n15&16.02\nP29\, ul. Piotrkowska 29 (wejście od ul. Więckows
 kiego)\nStart: 22.00\nTax: 10 pln\n\nPlenerowy melanż wspiera Johnnie Wal
 ker!
ATTACH;FMTTYPE=image/jpeg:https://night4u.pl/wp-content/uploads/2019/02/18
 183_image_50816695_303622976961184_1901870583059054592_o.jpg
CATEGORIES:łódzkie
LOCATION:P29\, Piotrkowska 29\, Łódź\, 90-410\, Poland
GEO:51.772549;19.455285
X-APPLE-STRUCTURED-LOCATION;VALUE=URI;X-ADDRESS=Piotrkowska 29\, Łódź\, 
 90-410\, Poland;X-APPLE-RADIUS=100;X-TITLE=P29:geo:51.772549,19.455285
END:VEVENT
BEGIN:VTIMEZONE
TZID:Europe/Warsaw
X-LIC-LOCATION:Europe/Warsaw
BEGIN:STANDARD
DTSTART:20181028T020000
TZOFFSETFROM:+0200
TZOFFSETTO:+0100
TZNAME:CET
END:STANDARD
END:VTIMEZONE
END:VCALENDAR