BEGIN:VCALENDAR
VERSION:2.0
PRODID:-//wp-events-plugin.com//7.2.3.1//EN
TZID:Europe/Warsaw
X-WR-TIMEZONE:Europe/Warsaw
BEGIN:VEVENT
UID:45930@night4u.pl
DTSTART;TZID=Europe/Warsaw:20200215T220000
DTEND;TZID=Europe/Warsaw:20200216T050000
DTSTAMP:20200331T150020Z
URL:https://night4u.pl/wydarzenia/love-is-in-the-air-sobota-15-02-walentyn
 ki/
SUMMARY:Love Is In The Air // Sobota 15.02 // Walentynki
DESCRIPTION:[ENGLISH VERSION BELOW]\n\nW sobotę\, 15 lutego\, poprawiamy W
 alentynki przy Starowiślnej 16! Z tej okazji nasz klub zmieni się nie do
  poznania\, DJe zagrają największe hity ubiegłych tygodni\, a doborowe 
 towarzystwo zapełni parkiet do wczesnych godzin rannych dnia następnego 
 &lt\;3\n\nTo będzie kolejna wyjątkowa impreza tematyczna - musisz być r
 azem z nami!\n\nLINE-UP:\n\n✘✘✘ MAINSTAGE ✘✘✘\n\n✰ Areg V (S
 hine Resident/UK)\n✰ DJ SQN (Shine Resident/Kraków)\n\n✘✘✘ sala R
 &#039\;n&#039\;B ✘✘✘\n\n✰ VIT. (Shine Resident/Kraków)\n\n✘✘
 ✘ LATIN STAGE ✘✘✘\n\n✰ TIGER DJ (Havana/Kuba)\n✰ NESTY DJ (Hav
 ana/Kuba)\n________________________________\nStart: 22:00\;\nWjazd: 15 PLN
 \; po 24:00 - 20 PLN\nWiek: 21+!\nObowiązuje: door selection.\n__________
 ______________________\n\n[ENGLISH VERSION]\n\nLet us take you on a journe
 y\, full of surprises\, unique characters and music magic. Become a part o
 f the show and make history with us!\n\nSHINE - Make Some Noise!\n________
 ________________________\nStart: 10:00 P.M.\nEntry: 15PLN\; after 12:00 P.
 M. - 20PLN\nAge: 21+\nDoor Selection.
ATTACH;FMTTYPE=image/jpeg:https://night4u.pl/wp-content/uploads/2020/02/14
 9861_image_83895847_3212910985404588_835435881409019904_o.jpg
CATEGORIES:małopolskie
LOCATION:Shine Club Kraków\, Starowiślna 16\, Kraków\, 31-032\, Poland
GEO:50.05756;19.94445
X-APPLE-STRUCTURED-LOCATION;VALUE=URI;X-ADDRESS=Starowiślna 16\, Kraków\,
  31-032\, Poland;X-APPLE-RADIUS=100;X-TITLE=Shine Club Kraków:geo:50.0575
 6,19.94445
END:VEVENT
BEGIN:VTIMEZONE
TZID:Europe/Warsaw
X-LIC-LOCATION:Europe/Warsaw
BEGIN:STANDARD
DTSTART:20191027T020000
TZOFFSETFROM:+0200
TZOFFSETTO:+0100
TZNAME:CET
END:STANDARD
END:VTIMEZONE
END:VCALENDAR