BEGIN:VCALENDAR
VERSION:2.0
PRODID:-//wp-events-plugin.com//7.2.3.1//EN
TZID:Europe/Warsaw
X-WR-TIMEZONE:Europe/Warsaw
BEGIN:VEVENT
UID:27864@night4u.pl
DTSTART;TZID=Europe/Warsaw:20190927T210000
DTEND;TZID=Europe/Warsaw:20190928T050000
DTSTAMP:20190916T211637Z
URL:https://night4u.pl/wydarzenia/love-message-piatek-27-09-club-80-2/
SUMMARY:Love Message // Piątek 27.09 - Club 80
DESCRIPTION:LOVE MESSAGE // Piątek 27.09 - Club 80\n\n27 września w piąt
 ek rozpoczynamy weekend z Club 80 imprezą:\n?LOVE MESSAGE?\n\nNasi najlep
 si Dj'e zaserwują Wam niezapomnianą muzykę lat 80′ i 90′! Razem z n
 ami przeniesiecie się w muzyczną przeszłość\, usłyszycie największe
  hity dobrze znane z naszego parkietu.\nJesteśmy pewni\, że stworzymy ni
 ezapomnianą atmosferę\, a zabawa będzie trwała do wczesnych godzin ran
 nych dnia następnego. ?\n\nStartujemy o 21:00 - do zobaczenia ?\n--\n? Do
 lny poziom - DJ MARCO\n--\nℹ INFO\n\n➡ START: ? 21.00 | DOOR SELECTION
 \n\n➡ REZERWACJE\n? 517 517 519\n\n➡ REGULAMIN KLUBU\nhttps://bit.ly/2
 AqoA65\n\n➡ POROZMAWIAJ ONLINE \nm.me/Club80Premium\n\n➡ WSTĘP\nPANIE
  - 5zł\nPANOWIE - 10zł\n--\nwww.club80.pl\nwww.fb.com/Club80Premium
ATTACH;FMTTYPE=image/jpeg:https://night4u.pl/wp-content/uploads/2019/09/64
 769_image_70556182_3116453768426724_4435065731876388864_o.jpg
CATEGORIES:śląskie
LOCATION:Club 80 Siemianowice Śląskie\, Olimpijska 15\, Siemianowice Slas
 kie\, 41-100\, Poland
GEO:50.304733;19.017948
X-APPLE-STRUCTURED-LOCATION;VALUE=URI;X-ADDRESS=Olimpijska 15\, Siemianowic
 e Slaskie\, 41-100\, Poland;X-APPLE-RADIUS=100;X-TITLE=Club 80 Siemianowic
 e Śląskie:geo:50.304733,19.017948
END:VEVENT
BEGIN:VTIMEZONE
TZID:Europe/Warsaw
X-LIC-LOCATION:Europe/Warsaw
BEGIN:DAYLIGHT
DTSTART:20190331T030000
TZOFFSETFROM:+0100
TZOFFSETTO:+0200
TZNAME:CEST
END:DAYLIGHT
END:VTIMEZONE
END:VCALENDAR