BEGIN:VCALENDAR
VERSION:2.0
PRODID:-//wp-events-plugin.com//7.2.3.1//EN
TZID:Europe/Warsaw
X-WR-TIMEZONE:Europe/Warsaw
BEGIN:VEVENT
UID:5994@night4u.pl
DTSTART;TZID=Europe/Warsaw:20190222T220000
DTEND;TZID=Europe/Warsaw:20190223T050000
DTSTAMP:20190314T184845Z
URL:https://night4u.pl/wydarzenia/lovvvibe-x-patio-22-02-2019/
SUMMARY:Lovvvibe x Patio // 22.02.2019
DESCRIPTION:? Halo\, halo wracamy ??\n? 22.02.2019 Ponownie w Patio Club re
 zerwujemy twój piątek ! \n? O 22:00 wjeżdżamy z najlepszą imprezą te
 j nocy w mieście !\n\n? O waszą dobrą zabawę zadbają:\n⚡ Biernol\n?
  Noxrate  (gościnnie nasz dobry przyjaciel)\n? Trap / Rap / R&B\n\n\n? TA
 X*\n10 pln\n20 pln po 23:30\n\n??‍? Studenci całą noc klasycznie po 10
  zł\n? Selekcja 18+ ?\n\n\n? Foty strzela: Robię Rzeczy\n\n? Urodziny ob
 chodzą:\n- ZGŁOŚ SIĘ DO NAS!\n\n\n*Osoby w ciuszkach Lovvvibe wchodzą
  całą noc za FREE !!! \n\n?? To jeszcze nie koniec...\nWięcej informacj
 i wkrótce !!\n\nObserwujcie nasze Social Media: \n\nFB: https://www.faceb
 ook.com/lovvvibe/\nIG: 
ATTACH;FMTTYPE=image/jpeg:https://night4u.pl/wp-content/uploads/2019/01/18
 013_image_50849953_395189767714195_1529912035674947584_o.jpg
CATEGORIES:zachodniopomorskie
LOCATION:Patio Club\, Podgórna 63\, Szczecin\, 70-205\, Poland
GEO:53.42365;14.55395
X-APPLE-STRUCTURED-LOCATION;VALUE=URI;X-ADDRESS=Podgórna 63\, Szczecin\, 7
 0-205\, Poland;X-APPLE-RADIUS=100;X-TITLE=Patio Club:geo:53.42365,14.55395
END:VEVENT
BEGIN:VTIMEZONE
TZID:Europe/Warsaw
X-LIC-LOCATION:Europe/Warsaw
BEGIN:STANDARD
DTSTART:20181028T020000
TZOFFSETFROM:+0200
TZOFFSETTO:+0100
TZNAME:CET
END:STANDARD
END:VTIMEZONE
END:VCALENDAR