BEGIN:VCALENDAR
VERSION:2.0
PRODID:-//wp-events-plugin.com//7.2.3.1//EN
TZID:Europe/Warsaw
X-WR-TIMEZONE:Europe/Warsaw
BEGIN:VEVENT
UID:35456@night4u.pl
DTSTART;TZID=Europe/Warsaw:20191206T200000
DTEND;TZID=Europe/Warsaw:20191206T230000
DTSTAMP:20200401T082101Z
URL:https://night4u.pl/wydarzenia/ltt-88-lotto-1988/
SUMMARY:Lotto &amp\; 1988 (Syny)\, Alchemia\, Kraków
DESCRIPTION:LOTTO\n\nMike Majkowski – gitara basowa\n\nŁukasz Rychlicki 
 – gitara\, gitara basowa\n\nPaweł Szpura – perkusja\n\nZespół zało
 żony pod koniec 2012 roku\, skupiający trzy kreatywne umysły współcze
 snej muzyki.\n\nRazem eksplorują granice takich rodzajów muzyki jak impr
 ov\, country\, noise\, minimalizm\, tworząc muzykę hipnotyczną �i wzr
 uszającą jednocześnie. Debiutancki album ASK THE DUST został wydany po
 d koniec 2014 roku przez LADO ABC.\n\nDrugi album LOTTO został wydany w k
 wietniu 2016 roku przez wytwórnię Instant Classic i spotkał się z bard
 zo dobrym przyjęciem krytyki. Min. w plebiscycie Gazety Wyborczej na pły
 tę roku\, ELITE FELINE\, zajęła pierwsze miejsce. Podobnie na portalu b
 eehype\, gdzie także głosowało kilkudziesięciu dziennikarzy. Większo
 ść rankingów wymieniało tą płytę w swoich zestawieniach na wysokich
  pozycjach\, min. Nowa Muzyka\, Noise Magazine\, słuchacze audycji HCH\, 
 JazzSoul\, Polityka\, Kinkyowl\, Polifonia\, Gazeta Magnetofonowa.\n\nTrze
 cia płyta zespołu\, zatytułowana VV ukazała się w październiku 2017 
 roku\, także nakładem wytwórni Instant Classic. Muzyka zawarta na tej p
 łycie kieruje zespół w nowe rejony\, zmieniło się też instrumentariu
 m. Zespół często wykorzystuje brzmienie dwóch gitar basowych\, zrezygn
 ował też z używania kontrabasu. W 2019 roku ukazuje się Epka PIX\, uka
 zująca inne oblicze zespołu\, stworzona przy pomocy strzępków wcześni
 ejszych nagrań i instrumentów elektronicznych. Nie została zarejestrowa
 na podczas sesji na żywo\, tak jak to było do tej pory.\n\nLOTTO zagrał
 o wiele koncertów w tym na istotnych festiwalach takich jak: UNSOUND Fest
 ival w Krakowie\, OFF Festival �w Katowicach\, Tauron Nowa Muzyka w Kato
 wicach\, Jazz Jantar w Gdańsku\, Nickelsdorf Konfrontationen w Austrii\, 
 Densités we Francji\, Kraak w Belgii (jako część instalacji Konrada Sm
 oleńskiego)\, Enjoy Jazz Heidelberg w Niemcy\, ARTACTS Festival w St. Joh
 ann\, Outernational Days Bucharest\, Avant Art Wrocław / Warszawa\, Umlau
 t Festival w Paryżu\, Solidarity of Arts w Gdańsku.\n\nFACEBOOK:\n\nhttp
 s://www.facebook.com/pages/LOTTO/1498413413742477?ref=aymt_homepage_panel\
 n\nWIKIPEDIA:\n\nhttps://en.wikipedia.org/wiki/Lotto_(band)\n\n\n1988\n198
 8 (Przemysław Jankowiak) – Pochodzący ze Szczecina\, mieszkający obec
 nie w Gdyni producent\, kompozytor\, muzyk. Współtwórca duetu  Syny\, z
  którym wydał dwie płyty „Orient” oraz „Sen”. Autor solowej pł
 yty „Gruda”. Pracował z wieloma czołowymi postaciami polskiej sceny 
 hiphopowej oraz niezależnej\, z jego produkcji korzystali m.in.\nLotto\, 
 Pezet\, Rosalie.\, Włodi\, Jetlagz\, czy Kristen. Primeshit Quality.\n\nh
 ttp://facebook.com/1988synu\nhttp://instagram.com/1988synu\nhttp://soundcl
 oud.com/1998synu\n\n BILETY : 30 zł przedsprzedaż\, 35 zł w dniu koncer
 tu\n\nlotto88  (fot. Pawel Zanio &amp\; Filip Jurek)
ATTACH;FMTTYPE=image/jpeg:https://night4u.pl/wp-content/uploads/2019/11/93
 206_image_75237488_2490336157670607_2402583239135854592_o.jpg
CATEGORIES:małopolskie
LOCATION:Klub Alchemia\, ul. Estery 5 (róg Estery i Placu Nowego) 31-056 K
 raków\, Kraków\, 31-056\, Poland
GEO:50.052061;19.944912
X-APPLE-STRUCTURED-LOCATION;VALUE=URI;X-ADDRESS=ul. Estery 5 (róg Estery i
  Placu Nowego) 31-056 Kraków\, Kraków\, 31-056\, Poland;X-APPLE-RADIUS=1
 00;X-TITLE=Klub Alchemia:geo:50.052061,19.944912
END:VEVENT
BEGIN:VTIMEZONE
TZID:Europe/Warsaw
X-LIC-LOCATION:Europe/Warsaw
BEGIN:STANDARD
DTSTART:20191027T020000
TZOFFSETFROM:+0200
TZOFFSETTO:+0100
TZNAME:CET
END:STANDARD
END:VTIMEZONE
END:VCALENDAR